BEGIN:VCALENDAR
VERSION:2.0
PRODID:-//ChamberMaster//Event Calendar 2.0//EN
METHOD:PUBLISH
X-PUBLISHED-TTL:P3D
REFRESH-INTERVAL:P3D
CALSCALE:GREGORIAN
BEGIN:VEVENT
DTSTART:20190711T010000Z
DTEND:20190711T030000Z
X-MICROSOFT-CDO-ALLDAYEVENT:FALSE
SUMMARY:July 10\, 2019 - Newton Talks: Bank of Montreal
DESCRIPTION:Speaker: Fay Wong & Preet Heer\n\nTopic: Final updates to the Newton Town Centre Plan Draft\n\nLocation: Bank of Montreal\n\nAddress: #110-7488 King George Blvd Surrey\, BC V3W 0H9\n\nTime: 6 p.m. - 7 p.m.\n\n\n\nSpace is limited. Register early!
X-ALT-DESC;FMTTYPE=text/html:<p><strong>Speaker: </strong>Fay Wong &amp\; Preet Heer<br />\n<strong>Topic:</strong> Final updates to the Newton Town Centre Plan Draft<br />\n<strong>Location: </strong>Bank of Montreal<br />\n<strong>Address: </strong>#110-7488 King George Blvd Surrey\, BC V3W 0H9<br />\n<strong>Time: </strong>6 p.m. - 7&nbsp\;p.m.<br />\n<br />\n<strong>Space is limited. Register early! </strong></p>\n
LOCATION:BMO Bank of Montreal #110-7488 King George Blvd Surrey\, BC V3W 0H9
UID:e.749.10206
SEQUENCE:3
DTSTAMP:20260420T162511Z
URL:https://business.swrbot.com/events/details/july-10-2019-newton-talks-bank-of-montreal-07-10-2019-10206
END:VEVENT

END:VCALENDAR
