BEGIN:VCALENDAR
VERSION:2.0
PRODID:-//ChamberMaster//Event Calendar 2.0//EN
METHOD:PUBLISH
X-PUBLISHED-TTL:P3D
REFRESH-INTERVAL:P3D
CALSCALE:GREGORIAN
BEGIN:VEVENT
DTSTART:20100714T143000Z
DTEND:20100714T160000Z
X-MICROSOFT-CDO-ALLDAYEVENT:FALSE
SUMMARY:July 14\, 2010 - Community Safety Breakfast
DESCRIPTION:Share your ideas with people who can help. \n\nChief Superintendent Fraser MacRae is scheduled to open the event and discuss on-going crime reduction strategies in North Surrey. \n\nCrime Reduction Manager of City of Surrey\, Mike Franklin Businesses in North Surrey brings new ideas from the UK including Downtown Surrey\, on community safety initiatives for businesses. \n\nBridgeview\, Cedar Hills\, and Royal Heights are invited. \n\nHosted by Downtown Surrey Business Improvement Association (DSBIA) and the Surrey Board of Trade
X-ALT-DESC;FMTTYPE=text/html:<div>Share your ideas with people who can help. <br /><br />Chief Superintendent Fraser MacRae is scheduled to open the event and discuss on-going crime reduction strategies in North Surrey. <br /><br />Crime Reduction Manager of City of Surrey\, Mike Franklin Businesses in North Surrey brings new ideas from the UK including Downtown Surrey\, on community safety initiatives for businesses. <br /><br />Bridgeview\, Cedar Hills\, and Royal Heights are invited. <br /><br />Hosted by Downtown Surrey Business Improvement Association (DSBIA) and the Surrey Board of Trade</div>
LOCATION:Jake's Steakhouse (Compass Point Inn\, 9850 King George Blvd\, Surrey)
UID:e.749.1626
SEQUENCE:3
DTSTAMP:20260422T160119Z
URL:https://business.swrbot.com/events/details/july-14-2010-community-safety-breakfast-07-14-2010-1626
END:VEVENT

END:VCALENDAR
