BEGIN:VCALENDAR
VERSION:2.0
PRODID:-//ChamberMaster//Event Calendar 2.0//EN
METHOD:PUBLISH
X-PUBLISHED-TTL:P3D
REFRESH-INTERVAL:P3D
CALSCALE:GREGORIAN
BEGIN:VEVENT
DTSTART:20160715T010000Z
DTEND:20160715T030000Z
X-MICROSOFT-CDO-ALLDAYEVENT:FALSE
SUMMARY:July 14\, 2016 - Cocktail Business Connection
DESCRIPTION:Cocktail Business Connection\n\n\n\nGenerate great business leads by networking with over 300 business people.\n\n\n\nEnjoy appetizers\, delicious cocktails\, music and great networking\n\n\n\nTable Top Display opportunities available.\n\n\n\nSpace is limited\, please contact Indra Bhan at indra@businessinsurrey.com or 604.581.7130 for more details.
X-ALT-DESC;FMTTYPE=text/html:<strong>Cocktail Business Connection</strong><br />\n<br />\nGenerate great business leads by networking with over 300 business people.<br />\n<br />\nEnjoy appetizers\, delicious cocktails\, music and great networking<br />\n<br />\n<strong>Table Top Display opportunities available.</strong><br />\n<br />\nSpace is limited\, please contact Indra Bhan at indra@businessinsurrey.com or 604.581.7130 for more details.<br />\n&nbsp\;
LOCATION:Eaglequest Golf Course 7778 152nd Street Surrey\, BC V3S 3M4
UID:e.749.3745
SEQUENCE:3
DTSTAMP:20260424T081413Z
URL:https://business.swrbot.com/events/details/july-14-2016-cocktail-business-connection-07-14-2016-3745
END:VEVENT

END:VCALENDAR
