BEGIN:VCALENDAR
VERSION:2.0
PRODID:-//ChamberMaster//Event Calendar 2.0//EN
METHOD:PUBLISH
X-PUBLISHED-TTL:P3D
REFRESH-INTERVAL:P3D
CALSCALE:GREGORIAN
BEGIN:VEVENT
DTSTART:20100715T143000Z
DTEND:20100715T163000Z
X-MICROSOFT-CDO-ALLDAYEVENT:FALSE
SUMMARY:July 15\, 2010 - Breakfast in the City
DESCRIPTION:Have breakfast and network with your fellow Board of Trade members at this popular morning event. \n\nYou can help welcome our new members and establish new contacts too\, while you learn more about some of the advantages of belonging to the Surrey Board of Trade.
X-ALT-DESC;FMTTYPE=text/html:<div>Have breakfast and network with your fellow Board of Trade members at this popular morning event. <br /><br />You can help welcome our new members and establish new contacts too\, while you learn more about some of the advantages of belonging to the Surrey Board of Trade.</div>
LOCATION:Sheraton Vancouver Guildford Hotel (15269 104th Ave\, Surrey)
UID:e.749.1616
SEQUENCE:3
DTSTAMP:20260422T160418Z
URL:https://business.swrbot.com/events/details/july-15-2010-breakfast-in-the-city-07-15-2010-1616
END:VEVENT

END:VCALENDAR
