BEGIN:VCALENDAR
VERSION:2.0
PRODID:-//ChamberMaster//Event Calendar 2.0//EN
METHOD:PUBLISH
X-PUBLISHED-TTL:P3D
REFRESH-INTERVAL:P3D
CALSCALE:GREGORIAN
BEGIN:VEVENT
DTSTART:20140717T010000Z
DTEND:20140717T030000Z
X-MICROSOFT-CDO-ALLDAYEVENT:FALSE
SUMMARY:July 16\, 2014 - Cocktail Business Connection
DESCRIPTION:Cocktail Business Connection\n\n\n\nGenerate great business leads by networking with over 250 business people.\n\n\n\nEnjoy appetizers\, delicious cocktails\, music and great networking\n\n\n\nTable Top Display opportunities available for only $250+GST. \n\n\n\nSpace is limited\, please contact Jo-Ann Huber at info@businessinsurrey.com or 604.581.7130 for more details.
X-ALT-DESC;FMTTYPE=text/html:<strong>Cocktail Business Connection</strong><br />\n<br />\nGenerate great business leads by networking with over 250 business people.<br />\n<br />\nEnjoy appetizers\, delicious cocktails\, music and great networking<br />\n<br />\n<strong>Table Top Display opportunities available for only $250+GST. </strong><br />\n<br />\nSpace is limited\, please contact Jo-Ann Huber at info@businessinsurrey.com or 604.581.7130 for more details.<br />\n&nbsp\;
LOCATION:Eaglequest Golf Course 7778 152nd Street Surrey\, BC V3S 3M4
UID:e.749.2557
SEQUENCE:3
DTSTAMP:20260425T190753Z
URL:https://business.swrbot.com/events/details/july-16-2014-cocktail-business-connection-07-16-2014-2557
END:VEVENT

END:VCALENDAR
