BEGIN:VCALENDAR
VERSION:2.0
PRODID:-//ChamberMaster//Event Calendar 2.0//EN
METHOD:PUBLISH
X-PUBLISHED-TTL:P3D
REFRESH-INTERVAL:P3D
CALSCALE:GREGORIAN
BEGIN:VEVENT
DTSTART:20120719T143000Z
DTEND:20120719T163000Z
X-MICROSOFT-CDO-ALLDAYEVENT:FALSE
SUMMARY:July 19\, 2012 - Breakfast in the City
DESCRIPTION:Breakfast in the City
X-ALT-DESC;FMTTYPE=text/html:Breakfast in the City&nbsp\;&nbsp\;&nbsp\; &nbsp\;&nbsp\;&nbsp\; 
LOCATION:Sheraton Vancouver Guildford Hotel 15269 104 Avenue\, Surrey
UID:e.749.2077
SEQUENCE:3
DTSTAMP:20260421T044901Z
URL:https://business.swrbot.com/events/details/july-19-2012-breakfast-in-the-city-07-19-2012-2077
END:VEVENT

END:VCALENDAR
