BEGIN:VCALENDAR
VERSION:2.0
PRODID:-//ChamberMaster//Event Calendar 2.0//EN
METHOD:PUBLISH
X-PUBLISHED-TTL:P3D
REFRESH-INTERVAL:P3D
CALSCALE:GREGORIAN
BEGIN:VEVENT
DTSTART:20160722T000000Z
DTEND:20160722T020000Z
X-MICROSOFT-CDO-ALLDAYEVENT:FALSE
SUMMARY:July 21\, 2016 - Business to Business Networking at Semiahmoo House Society
DESCRIPTION:Join us for an evening of networking with the members of your community.\n\n\n\nLearn about our plans to promote inclusion over cocktails and  hors d'oeuvres by our own catering crew.\n\n\n	Win Great Prizes! \n	Make new business contacts! \n	Request a tour of our Tree House\n\nSemiahmoo House Society is a not-for-profit organization providing services to people with disabilities and their families in Surrey and White Rock. \n\n\n\nCo-hosted by the South Surrey & White Rock Chamber of Commerce.
X-ALT-DESC;FMTTYPE=text/html:<span style="font-family:arial\;"><strong>Join us for an evening of networking with the members of your community.</strong><br />\n<br />\n<strong>Learn about our plans to promote inclusion over cocktails and <span style="background: white none repeat scroll 0% 0%\;"><span style="color: black\;"> hors d&#39\;oeuvre</span></span><span style="color: black\;">s</span> by our own catering crew.</strong></span>\n\n<ul>\n	<li><span style="font-family:arial\;">Win Great Prizes! </span></li>\n	<li><span style="font-family:arial\;">Make new business contacts! </span></li>\n	<li><span style="font-family:arial\;">Request a tour of our Tree House</span></li>\n</ul>\n<span style="font-family:arial\;"><strong><em><span style="color: black\;">Semiahmoo House Society is a not-for-profit organization providing services to people with disabilities and their families in Surrey and White Rock. </span></em><br />\n<br />\n<span style="color: black\;">Co-hosted by the South Surrey &amp\; White Rock Chamber of Commerce.</span></strong></span>
LOCATION:Semiahmoo House Society 15306 24th Avenue\, Surrey www.inclusionsurrey.com
UID:e.749.4812
SEQUENCE:3
DTSTAMP:20260424T083344Z
URL:https://business.swrbot.com/events/details/july-21-2016-business-to-business-networking-at-semiahmoo-house-society-07-21-2016-4812
END:VEVENT

END:VCALENDAR
