BEGIN:VCALENDAR
VERSION:2.0
PRODID:-//ChamberMaster//Event Calendar 2.0//EN
METHOD:PUBLISH
X-PUBLISHED-TTL:P3D
REFRESH-INTERVAL:P3D
CALSCALE:GREGORIAN
BEGIN:VEVENT
DTSTART:20170721T170000Z
DTEND:20170721T190000Z
X-MICROSOFT-CDO-ALLDAYEVENT:FALSE
SUMMARY:July 21\, 2017 - FREE Workshop “How to Develop a Cash Flow Projection”
DESCRIPTION:Guest Speakers: Sangita Sood\, Account Manager - Small Business\, Vancity You are in business. \n\n\n\nContracts are coming and you are feeling great. Congratulations! But it's not a steady climb to success: every business faces the ups and downs of economic cycles\, both of particular industries and the economy overall. What can you do to make sure you survive? What early warning signals tell you when it's time to ramp up\, time to invest\, time to cut back\, and time to hunker down? In this workshop you will: \n\n	Learn how to develop a comprehensive cash flow plan\n	Learn to develop alternative scenarios\n	Hear lessons from the "Wealthy Barber" applied to business \n	Recognize "red light" and "green light" signs in good and bad times\n	Learn how to "ramp up" your business with caution
X-ALT-DESC;FMTTYPE=text/html:Guest Speakers: Sangita Sood\, Account Manager - Small Business\, Vancity You are in business.&nbsp\;<br />\n<br />\nContracts are coming and you are feeling great. Congratulations! But it&#39\;s not a steady climb to success: every business faces the ups and downs of economic cycles\, both of particular industries and the economy overall. What can you do to make sure you survive? What early warning signals tell you when it&#39\;s time to ramp up\, time to invest\, time to cut back\, and time to hunker down? In this workshop you will:&nbsp\;\n<ul>\n	<li>Learn how to develop a comprehensive cash flow plan</li>\n	<li>Learn to develop alternative scenarios</li>\n	<li>Hear lessons from the &quot\;Wealthy Barber&quot\; applied to business&nbsp\;</li>\n	<li>Recognize &ldquo\;red light&rdquo\; and &ldquo\;green light&rdquo\; signs in good and bad times</li>\n	<li>Learn how to &ldquo\;ramp up&rdquo\; your business with caution</li>\n</ul>\n
LOCATION:DIVERSEcity 13455 76 Avenue Surrey\, BC V3W2W3
UID:e.749.5392
SEQUENCE:3
DTSTAMP:20260421T230125Z
URL:https://business.swrbot.com/events/details/july-21-2017-free-workshop-how-to-develop-a-cash-flow-projection-07-21-2017-5392
END:VEVENT

END:VCALENDAR
