BEGIN:VCALENDAR
VERSION:2.0
PRODID:-//ChamberMaster//Event Calendar 2.0//EN
METHOD:PUBLISH
X-PUBLISHED-TTL:P3D
REFRESH-INTERVAL:P3D
CALSCALE:GREGORIAN
BEGIN:VEVENT
DTSTART:20190725T000000Z
DTEND:20190725T020000Z
X-MICROSOFT-CDO-ALLDAYEVENT:FALSE
SUMMARY:July 24\, 2019 - Summer Sizzle Networking - Famoso Neapolitan Pizzeria - Guildford
DESCRIPTION:Don't let summer get in the way of your networking! Network on the patio of Famoso to celebrate this sunny season the right way!\n\n\n\nFamoso Guildford serves authentic Neapolitan Pizza\, artisan pastas\, and great appetizers in an upbeat\, casual atmosphere. With a full bar\, it is a great place to enjoy a local craft beer or sip on a glass of wine on the sun-filled patio.\n\n\n\nEnjoy a complimentary drink\, appetizers\, and great company!
X-ALT-DESC;FMTTYPE=text/html:Don&#39\;t let summer get in the way of your networking! Network on the patio of Famoso to celebrate this sunny season the right way!<br />\n<br />\nFamoso Guildford serves authentic Neapolitan Pizza\, artisan pastas\, and great appetizers in an upbeat\, casual atmosphere. With a full bar\, it is a great place to enjoy a local craft beer or sip on a glass of wine on the sun-filled patio.<br />\n<br />\nEnjoy a complimentary drink\, appetizers\, and great company!&nbsp\;
LOCATION:Famoso Guildford 10355 152 Street\, Surrey
UID:e.749.10489
SEQUENCE:3
DTSTAMP:20260420T162711Z
URL:https://business.swrbot.com/events/details/july-24-2019-summer-sizzle-networking-famoso-neapolitan-pizzeria-guildford-07-24-2019-10489
END:VEVENT

END:VCALENDAR
