BEGIN:VCALENDAR
VERSION:2.0
PRODID:-//ChamberMaster//Event Calendar 2.0//EN
METHOD:PUBLISH
X-PUBLISHED-TTL:P3D
REFRESH-INTERVAL:P3D
CALSCALE:GREGORIAN
BEGIN:VEVENT
DTSTART:20180726T003000Z
DTEND:20180726T023000Z
X-MICROSOFT-CDO-ALLDAYEVENT:FALSE
SUMMARY:July 25\, 2018 - Summer Sizzle Networking Series at Moxie's Grill & Bar!
DESCRIPTION:Network on the rooftop of Moxie's Grill & Bar to celebrate this sunny season\n\nthe right way! Learn more about the Sandman Suites Guildford\, a luxury hotel\n\nin your own neighbourhood!\n\n\n\nEnjoy a complimentary drink\, appetizers\, and great company! \n\n\n\nThis event is one of four in a series. Book all four and save! \n\n\n\nGuildford Moxie's welcomes you to enjoy the Summer season and network on the only Rooftop Patio in Surrey! Join us every Friday night from 7-11pm for our Summer Nights Patio Parties\, featuring DJ Andy Soul. Great drink and food specials including   price top shelf tequila and a feature late night menu. Come share our passion for food and drink in a fun\, stylish\, social restaurant environment. We look forward to making your experience a memorable one!
X-ALT-DESC;FMTTYPE=text/html:Network on the rooftop of Moxie&rsquo\;s Grill &amp\; Bar to celebrate this sunny season<br />\nthe right way! Learn more about the Sandman Suites Guildford\, a luxury hotel<br />\nin your own neighbourhood!<br />\n<br />\nEnjoy a complimentary drink\, appetizers\, and great company!&nbsp\;<br />\n<br />\nThis event is one of four in a series. Book all four and save!&nbsp\;<br />\n<br />\nGuildford Moxie&rsquo\;s welcomes you to enjoy the Summer season and network on the only Rooftop Patio in Surrey! Join us every Friday night from 7-11pm for our Summer Nights Patio Parties\, featuring DJ Andy Soul. Great drink and food specials including &frac12\; price top shelf tequila and a feature late night menu. Come share our passion for food and drink in a fun\, stylish\, social restaurant environment. We look forward to making your experience a memorable one!<br />\n<br />\n&nbsp\;
LOCATION:Sandman Guildford 10608 151A Street\, Surrey
UID:e.749.9457
SEQUENCE:3
DTSTAMP:20260421T083059Z
URL:https://business.swrbot.com/events/details/july-25-2018-summer-sizzle-networking-series-at-moxie-s-grill-bar-07-25-2018-9457
END:VEVENT

END:VCALENDAR
