BEGIN:VCALENDAR
VERSION:2.0
PRODID:-//ChamberMaster//Event Calendar 2.0//EN
METHOD:PUBLISH
X-PUBLISHED-TTL:P3D
REFRESH-INTERVAL:P3D
CALSCALE:GREGORIAN
BEGIN:VEVENT
DTSTART:20170727T000000Z
DTEND:20170727T020000Z
X-MICROSOFT-CDO-ALLDAYEVENT:FALSE
SUMMARY:July 26\, 2017 - Summer Sizzle Networking Event
DESCRIPTION:Networking | Refreshments | Prizes\n\n\n\nEnjoy the Summer season and network on the pool deck patio at the newly\n\nrenovated Sheraton Vancouver Guildford Hotel! They are the Fraser Valley's\n\nonly four-star\, three-diamond hotel and conference centre\, featuring over\n\n26\,000 square feet of function space and full service catering. Additional\n\nservice includes their award winning Fresh Restaurant and Lounge.\n\n\n\n  Complimentary drink and parking!\n\n  Delicious appetizers!\n\n  Great networking opportunities!\n\n  Fabulous prizes!\n\n\n\nAdvance registration is required.
X-ALT-DESC;FMTTYPE=text/html:Networking | Refreshments | Prizes<br />\n<br />\nEnjoy the Summer season and network on the pool deck patio at the newly<br />\nrenovated Sheraton Vancouver Guildford Hotel! They are the Fraser Valley&rsquo\;s<br />\nonly four-star\, three-diamond hotel and conference centre\, featuring over<br />\n26\,000 square feet of function space and full service catering. Additional<br />\nservice includes their award winning Fresh Restaurant and Lounge.<br />\n<br />\n&bull\; Complimentary drink and parking!<br />\n&bull\; Delicious appetizers!<br />\n&bull\; Great networking opportunities!<br />\n&bull\; Fabulous prizes!<br />\n<br />\nAdvance registration is required.
LOCATION:Sheraton Vancouver Guildford Hotel 15269 104 Avenue\, Surrey
UID:e.749.5361
SEQUENCE:3
DTSTAMP:20260421T230108Z
URL:https://business.swrbot.com/events/details/july-26-2017-summer-sizzle-networking-event-07-26-2017-5361
END:VEVENT

END:VCALENDAR
