BEGIN:VCALENDAR
VERSION:2.0
PRODID:-//ChamberMaster//Event Calendar 2.0//EN
METHOD:PUBLISH
X-PUBLISHED-TTL:P3D
REFRESH-INTERVAL:P3D
CALSCALE:GREGORIAN
BEGIN:VEVENT
DTSTART:20100727T153000Z
DTEND:20100727T170000Z
X-MICROSOFT-CDO-ALLDAYEVENT:FALSE
SUMMARY:July 27\, 2010 - Public Safety Discussion
DESCRIPTION:
X-ALT-DESC;FMTTYPE=text/html:
LOCATION:Surrey Board of Trade Conference Room#101 - 14439 104 Avenue\, Surrey
UID:e.749.1642
SEQUENCE:3
DTSTAMP:20260422T160210Z
URL:https://business.swrbot.com/events/details/july-27-2010-public-safety-discussion-07-27-2010-1642
END:VEVENT

END:VCALENDAR
