BEGIN:VCALENDAR
VERSION:2.0
PRODID:-//ChamberMaster//Event Calendar 2.0//EN
METHOD:PUBLISH
X-PUBLISHED-TTL:P3D
REFRESH-INTERVAL:P3D
CALSCALE:GREGORIAN
BEGIN:VEVENT
DTSTART:20170729T180000Z
DTEND:20170729T220000Z
X-MICROSOFT-CDO-ALLDAYEVENT:FALSE
SUMMARY:July 29\, 2017 - South Surrey Festival
DESCRIPTION:Free Family Event/Live Entertainment/Artisans/Local Vendors/Community Partners/Children's Play Zone/Face Painting/All Wheels Jam/Dunk Tank (by food bank donation) & More!
X-ALT-DESC;FMTTYPE=text/html:Free Family Event/Live Entertainment/Artisans/Local Vendors/Community Partners/Children&#39\;s Play Zone/Face Painting/All Wheels Jam/Dunk Tank (by food bank donation) &amp\; More!
LOCATION:South Surrey Recreation & Arts Centre and Athletic Fields - 14601 20 Ave
UID:e.749.5396
SEQUENCE:3
DTSTAMP:20260422T001311Z
URL:https://business.swrbot.com/events/details/july-29-2017-south-surrey-festival-07-29-2017-5396
END:VEVENT

END:VCALENDAR
