BEGIN:VCALENDAR
VERSION:2.0
PRODID:-//ChamberMaster//Event Calendar 2.0//EN
METHOD:PUBLISH
X-PUBLISHED-TTL:P3D
REFRESH-INTERVAL:P3D
CALSCALE:GREGORIAN
BEGIN:VEVENT
DTSTART:20160708T000000Z
DTEND:20160708T043000Z
X-MICROSOFT-CDO-ALLDAYEVENT:FALSE
SUMMARY:July 7\, 2016 - Networking in the Lions Den
DESCRIPTION:Join us at BC Place while we cheer on our BC Lions! Enjoy a VIP networking reception with fellow members in the Club Orange lounge. You will hear from the President and CEO of the BC Lions\, Dennis Skulsky and other guests. Leo and the Felions will also be making a visit during the game.\n\n\n\nTo register please contact Indra Bhan at 604.634.0343 or indra@businessinsurrey.ca.
X-ALT-DESC;FMTTYPE=text/html:<span style="font-family:arial"><span style="font-size:12px">Join us at BC Place while we cheer on our BC Lions! Enjoy a VIP networking reception with fellow members in the Club Orange lounge. You will hear from the President and CEO of the BC Lions\, Dennis Skulsky and other guests. Leo and the Felions will also be making a visit during the game.</span></span><br />\n<br />\n<span style="font-family:arial"><span style="font-size:12pt"><span style="font-size:12px">To register please contact Indra Bhan at <a href="tel:604.634.0343" target="_blank" value="+16046340343">604.634.0343</a> or <a href="mailto:indra@businessinsurrey.ca" target="_blank">indra@businessinsurrey.ca</a>.</span></span></span>
LOCATION:BC Place Stadium (777 Pacific Blvd\, Vancouver)
UID:e.749.4954
SEQUENCE:3
DTSTAMP:20260424T081916Z
URL:https://business.swrbot.com/events/details/july-7-2016-networking-in-the-lions-den-07-07-2016-4954
END:VEVENT

END:VCALENDAR
