BEGIN:VCALENDAR
VERSION:2.0
PRODID:-//ChamberMaster//Event Calendar 2.0//EN
METHOD:PUBLISH
X-PUBLISHED-TTL:P3D
REFRESH-INTERVAL:P3D
CALSCALE:GREGORIAN
BEGIN:VEVENT
DTSTART:20170707T170000Z
DTEND:20170707T190000Z
X-MICROSOFT-CDO-ALLDAYEVENT:FALSE
SUMMARY:July 7\, 2017 - Ten Things a Lender Looks for in a Business Plan
DESCRIPTION:You have a great business idea. Your family and friends think you will be successful   but   have you explored the many challenges your start-up may face? Do you have sufficient funds to cover all the start-up costs? What happens if you don't have any customers in the first few months? In this workshop you will:\n\n	 Identify the key areas for a start-up to be successful\n	Identify the many challenges a start-up may encounter\n	Learn to mitigate many of these challenges\n	Learn to develop a well-prepared business plan\n	Understand what a banker must see to approve your loan request If you plan to ask your banker for financial support for your business\, this workshop will ensure you arrive prepared
X-ALT-DESC;FMTTYPE=text/html:You have a great business idea. Your family and friends think you will be successful &ndash\; but &ndash\; have you explored the many challenges your start-up may face? Do you have sufficient funds to cover all the start-up costs? What happens if you don&rsquo\;t have any customers in the first few months? In this workshop you will:\n<ul>\n	<li>&nbsp\;Identify the key areas for a start-up to be successful</li>\n	<li>Identify the many challenges a start-up may encounter</li>\n	<li>Learn to mitigate many of these challenges</li>\n	<li>Learn to develop a well-prepared business plan</li>\n	<li>Understand what a banker must see to approve your loan request If you plan to ask your banker for financial support for your business\, this workshop will ensure you arrive prepared</li>\n</ul>\n
LOCATION:13455 76 Avenue\, Surrey\, BC V3W2W3
UID:e.749.5368
SEQUENCE:3
DTSTAMP:20260421T230849Z
URL:https://business.swrbot.com/events/details/july-7-2017-ten-things-a-lender-looks-for-in-a-business-plan-07-07-2017-5368
END:VEVENT

END:VCALENDAR
