BEGIN:VCALENDAR
VERSION:2.0
PRODID:-//ChamberMaster//Event Calendar 2.0//EN
METHOD:PUBLISH
X-PUBLISHED-TTL:P3D
REFRESH-INTERVAL:P3D
CALSCALE:GREGORIAN
BEGIN:VEVENT
DTSTART:20140709T003000Z
DTEND:20140709T023000Z
X-MICROSOFT-CDO-ALLDAYEVENT:FALSE
SUMMARY:July 8\, 2014 - Business to Business Reception @ Complete Home Design
DESCRIPTION:Business to Business Reception\n\nHosted by\n\nComplete Home Design!\n\n\n\nJoin Complete Home Design (CHD) as they celebrate their one year anniversary in their Surrey office! CHD is a residential and commercial interior design firm\, where they believe that good design reflects perfect balance of the client's needs and desires with innovative\, yet elegant\, flair.\n\n\n\nJoin us for their second annual open house event. Network with fellow members\, industry professionals and trades people. Get connected in the community and learn what CHD is all about!\n\n	Tour their new office\n	Learn more about the CHD advantage\n	Enjoy appetizers and refreshments\n	Find out how you can receive a complimentary consultation\n\nWin Great Prizes!  Make new business contacts!
X-ALT-DESC;FMTTYPE=text/html:Business to Business Reception<br />\nHosted by<br />\nComplete Home Design!<br />\n<br />\nJoin Complete Home Design (CHD) as they celebrate their one year anniversary in their Surrey office! CHD is a residential and commercial interior design firm\, where they believe that good design reflects perfect balance of the client&rsquo\;s needs and desires with innovative\, yet elegant\, flair.<br />\n<br />\nJoin us for their second annual open house event. Network with fellow members\, industry professionals and trades people. Get connected in the community and learn what CHD is all about!\n<ul>\n	<li>Tour their new office</li>\n	<li>Learn more about the CHD advantage</li>\n	<li>Enjoy appetizers and refreshments</li>\n	<li>Find out how you can receive a complimentary consultation</li>\n</ul>\nWin Great Prizes!&nbsp\; Make new business contacts!
LOCATION:204-10422 168th Street\, Surrey - second floor
UID:e.749.2636
SEQUENCE:3
DTSTAMP:20260425T201632Z
URL:https://business.swrbot.com/events/details/july-8-2014-business-to-business-reception-complete-home-design-07-08-2014-2636
END:VEVENT

END:VCALENDAR
