BEGIN:VCALENDAR
VERSION:2.0
PRODID:-//ChamberMaster//Event Calendar 2.0//EN
METHOD:PUBLISH
X-PUBLISHED-TTL:P3D
REFRESH-INTERVAL:P3D
CALSCALE:GREGORIAN
BEGIN:VEVENT
DTSTART:20170709T230000Z
DTEND:20170710T030000Z
X-MICROSOFT-CDO-ALLDAYEVENT:FALSE
SUMMARY:July 9\, 2017 - My Language Is My Identity : Celebration of Mother Language Festival 2017
DESCRIPTION:Mother Language Lovers of the World Society (MLLWS) is going to organize "Mother Language Festival 2017" on Sunday\, July 09\, 2017 at the Bear Creek Park in Surrey. A key objective of the "Mother Language Festival" is to bring together various linguistic and cultural origins to celebrate their heritage and enrich multiculturalism. We sincerely hope you will join us to celebrate cultural and linguistic diversity.
X-ALT-DESC;FMTTYPE=text/html:Mother Language Lovers of the World Society (MLLWS) is going to organize &quot\;Mother Language Festival 2017&quot\; on Sunday\, July 09\, 2017 at the Bear Creek Park in Surrey. A key objective of the &quot\;Mother Language Festival&quot\; is to bring together various linguistic and cultural origins to celebrate their heritage and enrich multiculturalism. We sincerely hope you will join us to celebrate cultural and linguistic diversity.
LOCATION:Bear Creek Park 13700 88 Ave\, Surrey\, British Columbia V3W 3L1.
UID:e.749.5377
SEQUENCE:3
DTSTAMP:20260422T001439Z
URL:https://business.swrbot.com/events/details/july-9-2017-my-language-is-my-identity-celebration-of-mother-language-festival-2017-07-09-2017-5377
END:VEVENT

END:VCALENDAR
