BEGIN:VCALENDAR
VERSION:2.0
PRODID:-//ChamberMaster//Event Calendar 2.0//EN
METHOD:PUBLISH
X-PUBLISHED-TTL:P3D
REFRESH-INTERVAL:P3D
CALSCALE:GREGORIAN
BEGIN:VEVENT
DTSTART:20170601T180000Z
DTEND:20170602T043000Z
X-MICROSOFT-CDO-ALLDAYEVENT:FALSE
SUMMARY:June 1\, 2017 - Golf Tournament - SOLD OUT!
DESCRIPTION:SOLD OUT!\n\nCall 604.581.7130 to find out about the wait list.\n\n\n\nSurrey Board of Trade Annual Fun in the Sun Networking Golf Tournament! \n\n\n\nWhat is the event?\n\nDifferent from other golf tournaments\, the purpose of the event is to create synergy and form business relationships on the golf course. Through the creation of teams of different companies   4 business people per team   they are able to spend the day on the golf course and network with one another.\n\n\n\nJoin us for a fun-filled day of:\n\n\n	Activities at every hole\n	Live Auction\n	Prizes\n	Lunch\n	Snacks and Beverages\n	Dinner\n	Silent Auction\n	Entertainment\n	Opportunity Draw\n	Registration gift\n\nSponsorship opportunities are available. Contact Heather Booth at heather@businessinsurrey.com or 604.634.0341 for more information.
X-ALT-DESC;FMTTYPE=text/html:<p><span style="font-size: 24px\;"><strong>SOLD OUT!</strong></span></p>\n\n<p><strong>Call 604.581.7130 to find out about the wait list.<br />\n<br />\nSurrey Board of Trade Annual Fun in the Sun Networking Golf Tournament! </strong><br />\n<br />\n<span style="font-size:12px"><span style="font-family:arial"><strong>What is the event?</strong><br />\nDifferent from other golf tournaments\, the purpose of the event is to create synergy and form business relationships on the golf course. Through the creation of teams of different companies &ndash\; 4 business people per team &ndash\; they are able to spend the day on the golf course and network with one another.</span></span><br />\n<br />\n<strong>Join us for a fun-filled day of:</strong></p>\n\n<ul>\n	<li>Activities at every hole</li>\n	<li>Live Auction</li>\n	<li>Prizes</li>\n	<li>Lunch</li>\n	<li>Snacks and Beverages</li>\n	<li>Dinner</li>\n	<li>Silent Auction</li>\n	<li>Entertainment</li>\n	<li>Opportunity Draw</li>\n	<li>Registration gift</li>\n</ul>\nSponsorship opportunities are available. Contact Heather Booth at <a href="mailto:heather@businessinsurrey.com">heather@businessinsurrey.com </a>or 604.634.0341 for more information.
LOCATION:Morgan Creek Golf Course (3500 Morgan Creek Way\, Surrey BC)
UID:e.749.4975
SEQUENCE:3
DTSTAMP:20260422T002408Z
URL:https://business.swrbot.com/events/details/june-1-2017-golf-tournament-sold-out-06-01-2017-4975
END:VEVENT

END:VCALENDAR
