BEGIN:VCALENDAR
VERSION:2.0
PRODID:-//ChamberMaster//Event Calendar 2.0//EN
METHOD:PUBLISH
X-PUBLISHED-TTL:P3D
REFRESH-INTERVAL:P3D
CALSCALE:GREGORIAN
BEGIN:VEVENT
DTSTART;VALUE=DATE:20090610
DTEND;VALUE=DATE:20090611
TRANSP:TRANSPARENT
X-MICROSOFT-CDO-ALLDAYEVENT:TRUE
SUMMARY:June 10\, '09 - Environment and Business Luncheon
DESCRIPTION:
X-ALT-DESC;FMTTYPE=text/html:
LOCATION:
UID:e.749.1524
SEQUENCE:3
DTSTAMP:20260423T151319Z
URL:https://business.swrbot.com/events/details/june-10-09-environment-and-business-luncheon-06-10-2009-1524
END:VEVENT

END:VCALENDAR
