BEGIN:VCALENDAR
VERSION:2.0
PRODID:-//ChamberMaster//Event Calendar 2.0//EN
METHOD:PUBLISH
X-PUBLISHED-TTL:P3D
REFRESH-INTERVAL:P3D
CALSCALE:GREGORIAN
BEGIN:VEVENT
DTSTART:20140610T150000Z
DTEND:20140610T170000Z
X-MICROSOFT-CDO-ALLDAYEVENT:FALSE
SUMMARY:June 10\, 2014 - Scientific Research & Experimental Development Tax Incentive
DESCRIPTION:Scientific Research & Experimental Development (SR&ED) Tax Incentive\n\n\n\nThe Scientific Research and Experimental Development (SR&ED) Program is a federal tax incentive program\, administered by the Canada Revenue Agency (CRA)\, that encourages Canadian businesses of all sizes\, and in all sectors to conduct research and development (R&D) in Canada. It is the largest single source of federal government support for industrial R&D.\n\n\n\nThe SR&ED Program gives claimants cash refunds and / or tax credits for their expenditures on eligible R&D work done in Canada.\n\n\n\nAt this workshop you will gain:\n\n  Insight into the new science questions on the new and revised SR&ED application.\n\n  Direction from the CRA on what is important to include in your SR&ED application.\n\n  An opportunity to ask CRA science auditors what really is eligible for SR&ED\n\n  Contacts at the CRA for future inquiries.\n\nPresented in partnership by Grant Gilmour of Gilmour Knotts Chartered Accountants\, and the Canada Revenue Agency.
X-ALT-DESC;FMTTYPE=text/html:<strong>Scientific Research &amp\; Experimental Development (SR&amp\;ED) Tax Incentive</strong><br />\n<br />\nThe Scientific Research and Experimental Development (SR&amp\;ED) Program is a federal tax incentive program\, administered by the Canada Revenue Agency (CRA)\, that encourages Canadian businesses of all sizes\, and in all sectors to conduct research and development (R&amp\;D) in Canada. It is the largest single source of federal government support for industrial R&amp\;D.<br />\n<br />\nThe SR&amp\;ED Program gives claimants cash refunds and / or tax credits for their expenditures on eligible R&amp\;D work done in Canada.<br />\n<br />\n<strong>At this workshop you will gain:</strong><br />\n&bull\; Insight into the new science questions on the new and revised SR&amp\;ED application.<br />\n&bull\; Direction from the CRA on what is important to include in your SR&amp\;ED application.<br />\n&bull\; An opportunity to ask CRA science auditors what really is eligible for SR&amp\;ED<br />\n&bull\; Contacts at the CRA for future inquiries.<br />\nPresented in partnership by Grant Gilmour of Gilmour Knotts Chartered Accountants\, and the Canada Revenue Agency.
LOCATION:Surrey Board of Trade Conference Room 101 - 14439 104th Ave Surrey\, BC
UID:e.749.2622
SEQUENCE:3
DTSTAMP:20260425T201412Z
URL:https://business.swrbot.com/events/details/june-10-2014-scientific-research-experimental-development-tax-incentive-06-10-2014-2622
END:VEVENT

END:VCALENDAR
