BEGIN:VCALENDAR
VERSION:2.0
PRODID:-//ChamberMaster//Event Calendar 2.0//EN
METHOD:PUBLISH
X-PUBLISHED-TTL:P3D
REFRESH-INTERVAL:P3D
CALSCALE:GREGORIAN
BEGIN:VEVENT
DTSTART;VALUE=DATE:20120612
DTEND;VALUE=DATE:20120613
TRANSP:TRANSPARENT
X-MICROSOFT-CDO-ALLDAYEVENT:TRUE
SUMMARY:June 12\, '12 - HR Workshop: Employment
DESCRIPTION:These sessions will teach you the specific and important aspects of HR within your business\, focusing on different areas of human resources and employment law.  Each session will provide you with practical solutions you can implement in your business to ensure that your HR strategies are as efficient as possible for future success.  These sessions are facilitated by Susan Bains of Holistic HR.\n\n \n\nSession One: Wednesday\, May 30th\n\nTopic: Employee Leaves - Paid and unpaid leaves of absence\; maternity/paternity leave\; annual vacation and vacation pay.\n\n \n\nSession Two: Tuesday\, June 12th\n\nTopic: Employment - Written employment contracts\; types of employment (regular full time\, temporary part time\, etc.)\; hours of work and overtime/split shifts\, minimum and maximum hours\, and agreements.\n\n \n\nSession Three: Tuesday\, July 10th \n\nTopic: Terminations - Wages\, length of service pay\, etc.
X-ALT-DESC;FMTTYPE=text/html:<span style="font-family:arial\;"><span style="font-size:10.0pt\;">These sessions will teach you the specific and important aspects of HR within your business\, focusing on different areas of human resources and employment law.&nbsp\; Each session will provide you with practical solutions you can implement in your business to ensure that your HR strategies are as efficient as possible for future success.&nbsp\; These sessions are facilitated by Susan Bains of Holistic HR.</span></span><br />\n&nbsp\;<br />\n<strong><span style="font-family:arial\;"><span style="font-size:10.0pt\;">Session One: Wednesday\, May 30th</span></span></strong><br />\n<span style="font-family:arial\;"><span style="font-size:10.0pt\;">Topic: Employee Leaves - Paid and unpaid leaves of absence\; maternity/paternity leave\; annual vacation and vacation pay.</span></span><br />\n&nbsp\;<br />\n<strong><span style="font-family:arial\;"><span style="font-size:10.0pt\;">Session Two: Tuesday\, June 12th</span></span></strong><br />\n<span style="font-family:arial\;"><span style="font-size:10.0pt\;">Topic: Employment - Written employment contracts\; types of employment (regular full time\, temporary part time\, etc.)\; hours of work and overtime/split shifts\, minimum and maximum hours\, and agreements.</span></span><br />\n&nbsp\;<br />\n<strong><span style="font-family:arial\;"><span style="font-size:10.0pt\;">Session Three: Tuesday\, July 10th </span></span></strong><br />\n<span style="font-family:arial\;"><span style="font-size:10.0pt\;">Topic: Terminations - Wages\, length of service pay\, etc.</span></span>
LOCATION:Surrey Board of Trade Conference Room 101-14439 104 Avenue\, Surrey
UID:e.749.2058
SEQUENCE:3
DTSTAMP:20260421T061541Z
URL:https://business.swrbot.com/events/details/june-12-12-hr-workshop-employment-06-12-2012-2058
END:VEVENT

END:VCALENDAR
