BEGIN:VCALENDAR
VERSION:2.0
PRODID:-//ChamberMaster//Event Calendar 2.0//EN
METHOD:PUBLISH
X-PUBLISHED-TTL:P3D
REFRESH-INTERVAL:P3D
CALSCALE:GREGORIAN
BEGIN:VEVENT
DTSTART:20140613T003000Z
DTEND:20140613T030000Z
X-MICROSOFT-CDO-ALLDAYEVENT:FALSE
SUMMARY:June 12\, 2014 - Surrey's Top 25 Under 25 Awards
DESCRIPTION:Surrey's Top 25 Under 25 Awards\n\n\n\nFeaturing Keynote Speakers:\n\n\n\nAnthony Jones   Founder/CEO\, Hunky Haulers\n\nAnthony is the Owner/Founder and CEO of Hunky Haulers Inc. A lifelong entrepreneur\, Anthony started his first company\, a commercial sub-contracting construction company at the age of 19\, with $600 to his name. By the time he was 29\, they were up to $20 million in labor contracts ($300 million in labor and supply signed contracts to fulfill.) As a result\, Anthony moved his operations outside of Canada and set up his business in the United States. Unfortunately\, in the fall of 2008 when the recession hit\, Anthony had to liquidate this business in order to ensure he could make payroll due to uncollectable receivables. By January of 2009\, he had to lay off over 200 union men and women employees and start from scratch.\n\n \n\nIn 2011\, Anthony received a door hanger from a local junk removal company and\, being the true Canadian entrepreneur that he is\, saw an opportunity to develop a business that could make a difference in his community and take a very different approach to traditional "junk removal companies." With branding in his veins\, Anthony came up with the name Hunky Haulers and started working with a many local and national charities such as Big Brothers of Greater Vancouver\, to help them service their donors with large furniture items\, that which the donation center's did not accept.\n\n \n\nMarco Pasqua   Co-Founder\, Executive Director\, Hunky Haulers\n\nMarco has been involved in philanthropy and community-based programs for the past twenty years. Not only has he been able to contribute to these programs\, but he has also been a recipient. At birth\, he was three months premature\, only weighing only two pounds ten ounces\; he would later be diagnosed with Cerebral Palsy.\n\n \n\nDespite facing adversity since day one and enduring over thirteen surgeries as a child\, Marco's parents raised him to believe that no goal was too out of reach\, and no challenge was too hard to conquer. He first started speaking in front of large audiences at the age of 10\; it was then that he realized the impact that words can have. Since then\, he has started his own company as an Inspirational Speaker and has been involved with a number of organizations (including Easter Seals/The Lions Society of BC\, The Sunshine Foundation\, The Active Living Alliance\, and The United Way) as a spokesperson\, helping to spread advocacy for persons with disabilities across Canada\, and proving that anything is possible when you invest the right kind of energy and creativity.
X-ALT-DESC;FMTTYPE=text/html:<strong><span style="font-size:14px\;">Surrey&#39\;s Top 25 Under 25 Awards</span><br />\n<br />\nFeaturing Keynote Speakers:<br />\n<br />\n<span style="font-family:arial\;"><span style="color: black\;">Anthony Jones &ndash\; Founder/CEO\, Hunky Haulers</span></span></strong><br />\n<span style="font-family:arial\;"><span style="color: black\;">Anthony is the Owner/Founder and CEO of Hunky Haulers Inc. A lifelong entrepreneur\, Anthony started his first company\, a commercial sub-contracting construction company at the age of 19\, with $600 to his name. By the time he was 29\, they were up to $20 million in labor contracts ($300 million in labor and supply signed contracts to fulfill.) As a result\, Anthony moved his operations outside of Canada and set up his business in the United States. Unfortunately\, in the fall of 2008 when the recession hit\, Anthony had to liquidate this business in order to ensure he could make payroll due to uncollectable receivables. By January of 2009\, he had to lay off over 200 union men and women employees and start from scratch.</span><br />\n&nbsp\;</span><br />\n<span style="font-size:12px\;">In 2011\, Anthony received a door hanger from a local junk removal company and\, being the true Canadian entrepreneur that he is\, saw an opportunity to develop a business that could make a difference in his community and take a very different approach to traditional &ldquo\;junk removal companies.&rdquo\; With branding in his veins\, Anthony came up with the name Hunky Haulers and started working with a many local and national charities such as Big Brothers of Greater Vancouver\, to help them service their donors with large furniture items\, that which the donation center&rsquo\;s did not accept.</span><br />\n<span style="font-family:arial\;">&nbsp\;<br />\n<strong><span style="font-size: 12pt\;">Marco Pasqua &ndash\; Co-Founder\, Executive Director\, Hunky Haulers</span></strong><br />\nMarco has been involved in philanthropy and community-based programs for the past twenty years. Not only has he been able to contribute to these programs\, but he has also been a recipient. At birth\, he was three months premature\, only weighing only two pounds ten ounces\; he would later be diagnosed with Cerebral Palsy.<br />\n&nbsp\;<br />\nDespite facing adversity since day one and enduring over thirteen surgeries as a child\, Marco&#39\;s parents raised him to believe that no goal was too out of reach\, and no challenge was too hard to conquer. He first started speaking in front of large audiences at the age of 10\; it was then that he realized the impact that words can have. Since then\, he has started his own company as an Inspirational Speaker and has been involved with a number of organizations (including Easter Seals/The Lions Society of BC\, The Sunshine Foundation\, The Active Living Alliance\, and The United Way) as a spokesperson\, helping to spread advocacy for persons with disabilities across Canada\, and proving that anything is possible when you invest the right kind of energy and creativity.&nbsp\;</span><br />\n<br />\n&nbsp\;
LOCATION:Eaglequest Golf Coyote Creek (7778 152 Street\, Surrey)
UID:e.749.2594
SEQUENCE:3
DTSTAMP:20260425T201417Z
URL:https://business.swrbot.com/events/details/june-12-2014-surrey-s-top-25-under-25-awards-06-12-2014-2594
END:VEVENT

END:VCALENDAR
