BEGIN:VCALENDAR
VERSION:2.0
PRODID:-//ChamberMaster//Event Calendar 2.0//EN
METHOD:PUBLISH
X-PUBLISHED-TTL:P3D
REFRESH-INTERVAL:P3D
CALSCALE:GREGORIAN
BEGIN:VEVENT
DTSTART:20190613T010000Z
DTEND:20190613T030000Z
X-MICROSOFT-CDO-ALLDAYEVENT:FALSE
SUMMARY:June 12\, 2019 - Newton Talks: OPTIONS Early Years Centre
DESCRIPTION:Speaker: A/S/Sgt. Trevor Dinwoodie\n\nTopic: Police Mental Health Outreach Team\n\nLocation: OPTIONS Early Years Centre\n\nAddress: 100-6846 King George Blvd Surrey\, BC V3W 4Z9\n\nTime: 6 p.m. - 7 p.m.\n\n\n\nSpace is limited. Register early!
X-ALT-DESC;FMTTYPE=text/html:<p><strong>Speaker: </strong>A/S/Sgt. Trevor Dinwoodie<br />\n<strong>Topic:</strong> Police Mental Health Outreach Team<br />\n<strong>Location: </strong>OPTIONS Early Years Centre<br />\n<strong>Address: </strong>100-6846 King George Blvd Surrey\, BC V3W 4Z9<br />\n<strong>Time: </strong>6 p.m. - 7&nbsp\;p.m.<br />\n<br />\n<strong>Space is limited. Register early! </strong></p>\n
LOCATION:OPTIONS Early Years Centre 100-6846 King George Blvd Surrey\, BC V3W 4Z9
UID:e.749.10205
SEQUENCE:3
DTSTAMP:20260420T174250Z
URL:https://business.swrbot.com/events/details/june-12-2019-newton-talks-options-early-years-centre-06-12-2019-10205
END:VEVENT

END:VCALENDAR
