BEGIN:VCALENDAR
VERSION:2.0
PRODID:-//ChamberMaster//Event Calendar 2.0//EN
METHOD:PUBLISH
X-PUBLISHED-TTL:P3D
REFRESH-INTERVAL:P3D
CALSCALE:GREGORIAN
BEGIN:VEVENT
DTSTART:20190614T003000Z
DTEND:20190614T023000Z
X-MICROSOFT-CDO-ALLDAYEVENT:FALSE
SUMMARY:June 13\, 2019 - Business to Business at Neuromotion Physiotherapy Clinic - Surrey
DESCRIPTION:Hosted by Neuromotion Physiotherapy Clinic!\n\n\n\nIn celebration of National Brain Injury Awareness month\, join us for an evening of networking and fun hosted by Neuromotion Physiotherapy & Rehabilitation Clinic.\n\n\n\nEnjoy appetizers and drinks\, make new business contacts and win prizes! Plus\, experience live demonstrations of the Lokomat - the world's leading robotic medical device.\n\n\n\nDid you know that in Canada brain injury alone is the number one killer and disabler of individuals under the age of 44? Did you know that every year in BC close to 30\,000 people will sustain a new brain or spinal cord injury? People who experience neurological injuries including strokes\, motor vehicle crashes\, workplace accidents and more quickly learn how life can completely change in an instant.\n\n\n\nNeuromotion can improve recovery for those impacted by neurological injuries. Their clinics have the only publicly accessible Lokomat machines in BC and they want to show you how they help people with neurological injuries to recover faster and in many cases\, walk again.
X-ALT-DESC;FMTTYPE=text/html:<strong>Hosted by Neuromotion Physiotherapy Clinic!</strong><br />\n<br />\nIn celebration of National Brain Injury Awareness month\, join us for an evening of networking and fun hosted by Neuromotion Physiotherapy &amp\; Rehabilitation Clinic.<br />\n<br />\nEnjoy appetizers and drinks\, make new business contacts and win prizes! Plus\, experience live demonstrations of the Lokomat - the world&rsquo\;s leading robotic medical device.<br />\n<br />\nDid you know that in Canada brain injury alone is the number one killer and disabler of individuals under the age of 44? Did you know that every year in BC close to 30\,000 people will sustain a new brain or spinal cord injury? People who experience neurological injuries including strokes\, motor vehicle crashes\, workplace accidents and more quickly learn how life can completely change in an instant.<br />\n<br />\nNeuromotion can improve recovery for those impacted by neurological injuries. Their clinics have the only publicly accessible Lokomat machines in BC and they want to show you how they help people with neurological injuries to recover faster and in many cases\, walk again.
LOCATION:Neuromotion Physiotherapy Clinic Suite 203 - 13737 96 Avenue\, Surrey\, BC V3V 0C6
UID:e.749.10362
SEQUENCE:3
DTSTAMP:20260420T190738Z
URL:https://business.swrbot.com/events/details/june-13-2019-business-to-business-at-neuromotion-physiotherapy-clinic-surrey-06-13-2019-10362
END:VEVENT

END:VCALENDAR
