BEGIN:VCALENDAR
VERSION:2.0
PRODID:-//ChamberMaster//Event Calendar 2.0//EN
METHOD:PUBLISH
X-PUBLISHED-TTL:P3D
REFRESH-INTERVAL:P3D
CALSCALE:GREGORIAN
BEGIN:VEVENT
DTSTART:20160614T143000Z
DTEND:20160614T163000Z
X-MICROSOFT-CDO-ALLDAYEVENT:FALSE
SUMMARY:June 14\, 2016 - Business in the City
DESCRIPTION:*SOLD OUT*\n\n\n\nHave breakfast and network with your fellow Board of Trade members at this popular morning event.\n\n\n\nYou can help welcome our new members and establish new contacts too\, while you learn more about some of the advantages of belonging to the Surrey Board of Trade.\n\n\n\nFor more information contact Indra Bhan at 604-634-0343 or indra@businessinsurrey.com.
X-ALT-DESC;FMTTYPE=text/html:<span style="color:#FF0000\;"><strong>*SOLD OUT*</strong></span><br />\n<br />\nHave breakfast and network with your fellow Board of Trade members at this popular morning event.<br />\n<br />\nYou can help welcome our new members and establish new contacts too\, while you learn more about some of the advantages of belonging to the Surrey Board of Trade.<br />\n<br />\nFor more information contact Indra Bhan at 604-634-0343 or indra@businessinsurrey.com.
LOCATION:Vancouver Guildford Hotel 15269 104 Avenue\, Surrey
UID:e.749.4806
SEQUENCE:3
DTSTAMP:20260424T095613Z
URL:https://business.swrbot.com/events/details/june-14-2016-business-in-the-city-06-14-2016-4806
END:VEVENT

END:VCALENDAR
