BEGIN:VCALENDAR
VERSION:2.0
PRODID:-//ChamberMaster//Event Calendar 2.0//EN
METHOD:PUBLISH
X-PUBLISHED-TTL:P3D
REFRESH-INTERVAL:P3D
CALSCALE:GREGORIAN
BEGIN:VEVENT
DTSTART:20180614T230000Z
DTEND:20180615T003000Z
X-MICROSOFT-CDO-ALLDAYEVENT:FALSE
SUMMARY:June 14\, 2018 - INDIA DELEGATION FROM DELHI - SBOT CONFERENCE ROOM
DESCRIPTION:I invite you to join the Surrey Board of Trade and the Indo-Canadian Business Chamber (ICBC) from Delhi\, India for a roundtable dialogue with industry representatives. See delegate list HERE. A leading business delegation consisting of multiple industry sectors are visiting cities in Canada to create trade links and global opportunities for local businesses. \n\nThe objectives are: to increase awareness of our two markets\, and build partnerships in order to increase two-way trade of goods and services\, between Canada and India\; and to encourage the promotion of FDI attraction. This business mission will focus on:\n\n\n	Encourage matured Indian companies to leverage the possibilities to Invest in Canada\n	Present Indian and Canadian businesses the opportunity to build partnerships\;\n	Facilitate B2B meetings for Canadian and Indian companies to invest and identify partners\; and\n	Present the Canadian economic and business landscape to businesses from India.
X-ALT-DESC;FMTTYPE=text/html:<div class="kMp0We OcVpRe">\n<div class="NI2kfb S4zwaf" id="xDetDlgDesc"><span style="font-size:12px\;"><span style="font-family:arial\;">I invite you to join the Surrey Board of Trade and t<strong style="font-weight:normal">he Indo-Canadian Business Chamber (ICBC) from Delhi\, India</strong> for a roundtable dialogue with industry representatives. <span style="background-color:rgb(255\,255\,255)\;text-decoration-style:initial\;text-decoration-color:initial\;float:none\;display:inline">See delegate list HERE.&nbsp\;</span>A leading business delegation consisting of multiple industry sectors are visiting cities in Canada to create trade links and global opportunities for local businesses.&nbsp\;</span></span>\n<div class="m_-8397683422005271467m_-224025641385090406kMp0We m_-8397683422005271467m_-224025641385090406OcVpRe" style="font-weight:normal">\n<div class="m_-8397683422005271467m_-224025641385090406NI2kfb m_-8397683422005271467m_-224025641385090406S4zwaf"><span style="font-size:12px"><span style="font-family:arial">The objectives are: to increase awareness of our two markets\, and build partnerships in order to increase two-way trade of goods and services\, between Canada and India\; and to encourage the promotion of FDI attraction. This business mission will focus on:</span></span></div>\n\n<ul>\n	<li class="m_-8397683422005271467m_-224025641385090406NI2kfb m_-8397683422005271467m_-224025641385090406S4zwaf"><span style="font-size:12px"><span style="font-family:arial">Encourage matured Indian companies to leverage the possibilities to Invest in Canada</span></span></li>\n	<li class="m_-8397683422005271467m_-224025641385090406NI2kfb m_-8397683422005271467m_-224025641385090406S4zwaf"><span style="font-size:12px"><span style="font-family:arial">Present Indian and Canadian businesses the opportunity to build partnerships\;</span></span></li>\n	<li class="m_-8397683422005271467m_-224025641385090406NI2kfb m_-8397683422005271467m_-224025641385090406S4zwaf"><span style="font-size:12px"><span style="font-family:arial">Facilitate B2B meetings for Canadian and Indian companies to invest and identify partners\; and</span></span></li>\n	<li class="m_-8397683422005271467m_-224025641385090406NI2kfb m_-8397683422005271467m_-224025641385090406S4zwaf"><span style="font-size:12px"><span style="font-family:arial">Present the Canadian economic and business landscape to businesses from India. </span></span></li>\n</ul>\n</div>\n</div>\n</div>\n
LOCATION:Surrey Board of Trade 101-14439\, 104th Ave\, Surrey\, V3R 1M1
UID:e.749.9356
SEQUENCE:3
DTSTAMP:20260421T091658Z
URL:https://business.swrbot.com/events/details/june-14-2018-india-delegation-from-delhi-sbot-conference-room-06-14-2018-9356
END:VEVENT

END:VCALENDAR
