BEGIN:VCALENDAR
VERSION:2.0
PRODID:-//ChamberMaster//Event Calendar 2.0//EN
METHOD:PUBLISH
X-PUBLISHED-TTL:P3D
REFRESH-INTERVAL:P3D
CALSCALE:GREGORIAN
BEGIN:VEVENT
DTSTART:20160616T003000Z
DTEND:20160616T033000Z
X-MICROSOFT-CDO-ALLDAYEVENT:FALSE
SUMMARY:June 15\, 2016 - Chair's Networking Dinner and 52nd Annual General Meeting
DESCRIPTION:What will happen at this unique networking event? \n\nFIND OUT HOW YOUR SURREY BOARD OF TRADE IS WORKING FOR YOU!\n\n\n	Keynote Speaker: Mayor Greg Moore\, Chair\, Metro Vancouver\n	Surrey Board of Trade Annual General Meeting \n	Installation Ceremony of the newly elected Directors & new Chair.\n	Presentation from the Surrey Board of Trade-Junior Achievement of BC Youth Leaders of Today Mentorship Program\n	Presentation of the Child and Family Friendly Workplace Award
X-ALT-DESC;FMTTYPE=text/html:<div class="page" title="Page 1">\n<div class="section">\n<div class="layoutArea">\n<div class="column">\n<p><span style="font-size:12px\;"><span style="font-family: arial\;"><span style="font-weight: 700\;">What will happen at this unique networking event? </span></span></span></p>\n\n<p><span style="font-size:12px\;"><span style="font-family: arial\;"><span style="font-weight: 700\;">FIND OUT HOW YOUR SURREY BOARD OF TRADE IS </span></span></span><span style="font-size:12px\;"><span style="font-family: arial\;"><span style="font-weight: 700\;">WORKING FOR YOU!</span></span></span></p>\n\n<ol>\n	<li style="font-size: 12pt\; font-family: &quot\;ArialMT&quot\;\;"><span style="font-size:12px\;"><span style="font-family: arial\;"><span style="font-weight: 700\;">Keynote Speaker: Mayor Greg Moore\, Chair\, Metro Vancouver</span></span></span></li>\n	<li style="font-size: 12pt\; font-family: &quot\;ArialMT&quot\;\;"><span style="font-size:12px\;"><span style="font-family: arial\;">Surrey Board of Trade Annual General Meeting </span></span></li>\n	<li style="font-size: 12pt\; font-family: &quot\;ArialMT&quot\;\;"><span style="font-size:12px\;"><span style="font-family: arial\;">Installation Ceremony of the newly elected Directors &amp\; new Chair.</span></span></li>\n	<li style="font-size: 12pt\; font-family: &quot\;ArialMT&quot\;\;"><span style="font-size:12px\;"><span style="font-family: arial\;">Presentation from the Surrey Board of Trade-Junior Achievement of BC Youth Leaders of Today Mentorship Program</span></span></li>\n	<li style="font-size: 12pt\; font-family: &quot\;ArialMT&quot\;\;"><span style="font-size:12px\;"><span style="font-family: arial\;">Presentation of the Child and Family Friendly Workplace Award</span></span></li>\n</ol>\n</div>\n</div>\n</div>\n</div>\n
LOCATION:Eaglequest Golf Course 7778 152 Street\, Surrey
UID:e.749.3746
SEQUENCE:3
DTSTAMP:20260424T095619Z
URL:https://business.swrbot.com/events/details/june-15-2016-chair-s-networking-dinner-and-52nd-annual-general-meeting-06-15-2016-3746
END:VEVENT

END:VCALENDAR
