BEGIN:VCALENDAR
VERSION:2.0
PRODID:-//ChamberMaster//Event Calendar 2.0//EN
METHOD:PUBLISH
X-PUBLISHED-TTL:P3D
REFRESH-INTERVAL:P3D
CALSCALE:GREGORIAN
BEGIN:VEVENT
DTSTART:20140619T003000Z
DTEND:20140619T033000Z
X-MICROSOFT-CDO-ALLDAYEVENT:FALSE
SUMMARY:June 18\, 2014 - President's Networking Dinner and 50th Annual General Meeting
DESCRIPTION:President's Networking Dinner and 50th Annual General Meeting\n\n\n\nWhat will happen at this unique networking event?\n\n\n\nFind out how your Surrey Board of Trade is working for you!\n\n	Keynote Speaker: Aubrey Kelly\, President and CEO Surrey City Development Corp.  Topic: Developments in Surrey\n	Surrey Board of Trade Annual General Meeting and Bylaw Changes\n	Installation ceremony of the newly elected Directors and new President\n	Presentation of the Surrey Board of Trade-Junior Achievement of BC Youth Leaders of Today Mentorship Program\, sponsored by Envision Financial\n	Presentation of the Child and Family Friendly Workplace Award\, sponsored by BC Human Resources Management Association
X-ALT-DESC;FMTTYPE=text/html:<strong>President&#39\;s Networking Dinner and 50th Annual General Meeting</strong><br />\n<br />\nWhat will happen at this unique networking event?<br />\n<br />\nFind out how your Surrey Board of Trade is working for you!\n<ul>\n	<li><strong>Keynote Speaker</strong>: Aubrey Kelly\, President and CEO Surrey City Development Corp.&nbsp\; Topic: Developments in Surrey</li>\n	<li>Surrey Board of Trade Annual General Meeting and Bylaw Changes</li>\n	<li>Installation ceremony of the newly elected Directors and new President</li>\n	<li>Presentation of the Surrey Board of Trade-Junior Achievement of BC Youth Leaders of Today Mentorship Program\, sponsored by <strong>Envision Financial</strong></li>\n	<li>Presentation of the Child and Family Friendly Workplace Award\, sponsored by BC Human Resources Management Association</li>\n</ul>\n
LOCATION:Eaglequest Golf Course 7778 152 Street Surrey\, BC
UID:e.749.2559
SEQUENCE:3
DTSTAMP:20260425T213116Z
URL:https://business.swrbot.com/events/details/june-18-2014-president-s-networking-dinner-and-50th-annual-general-meeting-06-18-2014-2559
END:VEVENT

END:VCALENDAR
