BEGIN:VCALENDAR
VERSION:2.0
PRODID:-//ChamberMaster//Event Calendar 2.0//EN
METHOD:PUBLISH
X-PUBLISHED-TTL:P3D
REFRESH-INTERVAL:P3D
CALSCALE:GREGORIAN
BEGIN:VEVENT
DTSTART:20180620T010000Z
DTEND:20180620T030000Z
X-MICROSOFT-CDO-ALLDAYEVENT:FALSE
SUMMARY:June 19\, 2018 - Business to Business at 5 Star Catering
DESCRIPTION:Hosted by 5 Star Catering!\n\n\n\nJoin the Surrey Board of Trade for an evening of networking and fun at 5 Star Catering!\n\nCome and enjoy drinks\, appetizers\, win prizes\, and make new business contacts!\n\n\n\nFor over 20 years 5 Star Catering has been providing outstanding service and the highest quality catered food and beverages throughout the Lower Mainland. Whether your event is held at their newly renovated Sunrise Banquet facility or at the location of your choosing\, you can expect the very best including their 5 Star Commitment\; Extraordinary Presentation\, Sensational Taste\, Impeccable Friendly Service\, Personal Touch & Outstanding Value.
X-ALT-DESC;FMTTYPE=text/html:<strong>Hosted by 5 Star Catering!</strong><br />\n<br />\n<span style="color: rgb(34\, 34\, 34)\; font-family: arial\; font-size: 12px\;">Join the Surrey Board of Trade for an evening of networking and fun at 5 Star Catering!</span><br style="color: rgb(34\, 34\, 34)\; font-family: arial\; font-size: 12px\;" />\n<span style="color: rgb(34\, 34\, 34)\; font-family: arial\; font-size: 12px\; background-image: none\; background-position: 0% 0%\; background-size: initial\; background-repeat: repeat\; background-attachment: scroll\; background-origin: initial\; background-clip: initial\;"><span style="color: rgb(10\, 10\, 10)\;">Come and enjoy drinks\, appetizers\, win prizes\, and make new business contacts!</span></span><br />\n<br />\n<span style="font-size:12px\;"><span style="font-family:calibri\,sans-serif\;">For over 20 years 5 Star Catering has been providing outstanding service and the highest quality catered food and beverages throughout the Lower Mainland. Whether your event is held at their newly renovated Sunrise Banquet facility or at the location of your choosing\, you can expect the very best including their 5 Star Commitment\; Extraordinary Presentation\, Sensational Taste\, Impeccable Friendly Service\, Personal Touch<strong> </strong>&amp\;<strong> </strong>Outstanding Value.&nbsp\;</span></span>
LOCATION:5 Star Catering Sunrise Banquet Centre 5640 188 St\, Surrey\, BC
UID:e.749.6801
SEQUENCE:3
DTSTAMP:20260421T091846Z
URL:https://business.swrbot.com/events/details/june-19-2018-business-to-business-at-5-star-catering-06-19-2018-6801
END:VEVENT

END:VCALENDAR
