BEGIN:VCALENDAR
VERSION:2.0
PRODID:-//ChamberMaster//Event Calendar 2.0//EN
METHOD:PUBLISH
X-PUBLISHED-TTL:P3D
REFRESH-INTERVAL:P3D
CALSCALE:GREGORIAN
BEGIN:VEVENT
DTSTART:20100602T230000Z
DTEND:20100603T000000Z
X-MICROSOFT-CDO-ALLDAYEVENT:FALSE
SUMMARY:June 2\, 2010 - Future Member Orientation
DESCRIPTION:
X-ALT-DESC;FMTTYPE=text/html:
LOCATION:
UID:e.749.1614
SEQUENCE:3
DTSTAMP:20260422T173104Z
URL:https://business.swrbot.com/events/details/june-2-2010-future-member-orientation-06-02-2010-1614
END:VEVENT

END:VCALENDAR
