BEGIN:VCALENDAR
VERSION:2.0
PRODID:-//ChamberMaster//Event Calendar 2.0//EN
METHOD:PUBLISH
X-PUBLISHED-TTL:P3D
REFRESH-INTERVAL:P3D
CALSCALE:GREGORIAN
BEGIN:VEVENT
DTSTART:20170621T003000Z
DTEND:20170621T023000Z
X-MICROSOFT-CDO-ALLDAYEVENT:FALSE
SUMMARY:June 20\, 2017 - Business to Business Networking at Clarity Eyecare
DESCRIPTION:Join us for an evening of networking and fun at Surrey's newest optometry and eye wear stop\, Clarity Eyecare!\n\n\n\nCome and SEE what Clarity Eyecare is all about:\n\n\n\n  Meet the passionate staff and doctors\n\n  Try on some of the newest frames and sunglasses\n\n  Enter to win a pair of designer sunglasses!\n\n\n\nEnjoy an evening of beverages\, appetizers\, good music\, and great company while networking with Surrey's growing and diverse business community!
X-ALT-DESC;FMTTYPE=text/html:<span style="font-size:12px\;"><span style="font-family: arial\;">Join us for an evening of networking and fun at Surrey&rsquo\;s newest optometry and eye wear stop\, Clarity Eyecare!<br />\n<br />\nCome and SEE what Clarity Eyecare is all about:<br />\n<br />\n&bull\; Meet the passionate staff and doctors<br />\n&bull\; Try on some of the newest frames and sunglasses<br />\n&bull\; Enter to win a pair of designer sunglasses!<br />\n<br />\nEnjoy an evening of beverages\, appetizers\, good music\, and great company while networking with Surrey&rsquo\;s growing and diverse business community!</span></span>
LOCATION:Clarity Eyecare 107-14340 64 Avenue\, Surrey BC\, V3W 1Z1
UID:e.749.5248
SEQUENCE:3
DTSTAMP:20260422T001657Z
URL:https://business.swrbot.com/events/details/june-20-2017-business-to-business-networking-at-clarity-eyecare-06-20-2017-5248
END:VEVENT

END:VCALENDAR
