BEGIN:VCALENDAR
VERSION:2.0
PRODID:-//ChamberMaster//Event Calendar 2.0//EN
METHOD:PUBLISH
X-PUBLISHED-TTL:P3D
REFRESH-INTERVAL:P3D
CALSCALE:GREGORIAN
BEGIN:VEVENT
DTSTART:20180620T150000Z
DTEND:20180620T170000Z
X-MICROSOFT-CDO-ALLDAYEVENT:FALSE
SUMMARY:June 20\, 2018 - SBOT Workshop – Stress-Free Public Speaking: How to Speak Effortlessly and Effectively in any Situation
DESCRIPTION:This two-part workshop will give you the tools to build a speech that will immediately capture the attention of your audience\, engage them with the stories that illustrate and support the points you wish to make\, and conclude at the destination you had planned for them. \n\n \n\nGetting feedback on your speech is key to making it memorable. Part two of the workshop will involve the evaluation of speeches from the group to identify what did and what didn't work\, and how to improve the structure\, content and delivery of the speech for maximum effect.\n\n\n\nIf the thought of speaking in front of a group induces a state of high anxiety and cold sweat\, then attending this "Stress Free Public Speaking" workshops will dial-down the stress and show you how to be comfortable speaking in any situation.\n\n \n\nThese workshops are presented by the following public speaking experts:\n\n	Allan Corbett   Allan began speaking in public as a President of a Real estate organization\, but really learned how to do it well after he joined a Toastmasters club. He started two Toastmaster clubs\, and currently serves as President of the Early Edition Toastmasters   South Surrey. His mantra is "Be prepared to be spontaneous".\n	Bob Milliken   Bob is a Toastmaster\, a member of two toastmaster clubs and a regular speaker to business group on topics related to I.T. strategy\, effective marketing and business planning. He serves a Public Relations for Early Edition Toastmasters- South Surrey. He is a member of the Surrey Board of Trade\, the Vancouver Board of Trade and his articles appear regularly in the Surrey Business News.\n\n Part 1: Wednesday\, June 13\, 2018\; Part 2: Wednesday\, June 20\, 2018
X-ALT-DESC;FMTTYPE=text/html:<span style="font-family:arial\;"><span style="font-size: 14px\;">This two-part workshop will give you the tools to build a speech that will immediately capture the attention of your audience\, engage them with the stories that illustrate and support the points you wish to make\, and conclude at the destination you had planned for them.&nbsp\;<br />\n&nbsp\;<br />\nGetting feedback on your speech is key to making it memorable. Part two of the workshop will involve the evaluation of speeches from the group to identify what did and what didn&#39\;t work\, and how to improve the structure\, content and delivery of the speech for maximum effect.<br />\n<br />\nIf the thought of speaking in front of a group induces a state of high anxiety and cold sweat\, then attending this <em>&ldquo\;Stress Free Public Speaking&rdquo\; </em>workshops will dial-down the stress and show you how to be comfortable speaking in any situation.<br />\n&nbsp\;<br />\nThese workshops are presented by the following public speaking experts:</span></span>\n<ol>\n	<li><span style="font-family:arial\;"><span style="font-size: 14px\;"><strong><span style="border: 1pt none windowtext\; padding: 0cm\; background: white none repeat scroll 0% 0%\;"><span style="color: rgb(34\, 34\, 34)\;">Allan Corbett</span></span></strong><span style="border: 1pt none windowtext\; padding: 0cm\; background: white none repeat scroll 0% 0%\;"><span style="color: rgb(34\, 34\, 34)\;">&nbsp\;&ndash\; Allan began speaking in public as a President of a Real estate organization\, but really learned how to do it well after he joined a Toastmasters club. He started two Toastmaster clubs\, and currently serves as President of the </span></span><a data-saferedirecturl="https://www.google.com/url?hl=en&amp\;q=http://www.earlyeditiontoastmasters.com/&amp\;source=gmail&amp\;ust=1527194113792000&amp\;usg=AFQjCNGcUjHyJFfpq3-KvnrGl187RPt1Jw" href="http://www.earlyeditiontoastmasters.com/" style="color:blue\;text-decoration:underline\;" target="_blank">Early Edition Toastmasters &ndash\; South Surrey</a>. His mantra is &ldquo\;Be prepared to be spontaneous&rdquo\;.</span></span></li>\n	<li><span style="font-family:arial\;"><span style="font-size: 14px\;"><strong>Bob Milliken</strong> &ndash\; Bob is a Toastmaster\, a member of two toastmaster clubs and a regular speaker to business group on topics related to I.T. strategy\, effective marketing and business planning. He serves a Public Relations for <a data-saferedirecturl="https://www.google.com/url?hl=en&amp\;q=http://www.earlyeditiontoastmasters.com/&amp\;source=gmail&amp\;ust=1527194113792000&amp\;usg=AFQjCNGcUjHyJFfpq3-KvnrGl187RPt1Jw" href="http://www.earlyeditiontoastmasters.com/" style="color:blue\;text-decoration:underline\;" target="_blank">Early Edition Toastmasters- South Surrey</a>. He is a member of the Surrey Board of Trade\, the Vancouver Board of Trade and his articles appear regularly in the Surrey Business News.</span></span></li>\n</ol>\n<span style="font-family:arial\;"><span style="font-size: 14px\;"> <span style="color: black\;"><strong>Part 1: </strong>Wednesday\, June 13\, 2018</span>\; <strong>Part 2</strong>: Wednesday\, June 20\, 2018</span></span>
LOCATION:Surrey Board of Trade (101-14439\, 104th Ave\, Surrey\, BC V3R 1M1)
UID:e.749.9329
SEQUENCE:3
DTSTAMP:20260421T091734Z
URL:https://business.swrbot.com/events/details/june-20-2018-sbot-workshop-stress-free-public-speaking-how-to-speak-effortlessly-and-effectively-in-any-situation-06-20-2018-9329
END:VEVENT

END:VCALENDAR
