BEGIN:VCALENDAR
VERSION:2.0
PRODID:-//ChamberMaster//Event Calendar 2.0//EN
METHOD:PUBLISH
X-PUBLISHED-TTL:P3D
REFRESH-INTERVAL:P3D
CALSCALE:GREGORIAN
BEGIN:VEVENT
DTSTART:20160621T150000Z
DTEND:20160621T170000Z
X-MICROSOFT-CDO-ALLDAYEVENT:FALSE
SUMMARY:June 21\, 2016 - Creating an Engaged Workforce
DESCRIPTION:Do you work in a management role at your business/organization?\n\nAre you looking for new strategies to create a healthy\, engaged and productive workforce?\n\n\n\nJoin us for an interactive workshop on how we can find new ways to improve wellbeing in theworkplace by using system thinking. Bridge for Health has developed a Healthy Business Practice Framework that highlights six business practice areas that promote wellbeing in business and are aligned with corporate social and environmental responsible practices. Using this framework\, participants will explore how their business policies\, practices and environments promote   or hinder   the health\, wellbeing and sustainability of their employees and the communities in which they operate. Participants will identify barriers and co-design strategies for creating a workplace environment that is good for health\, creativity and the bottom line.\n\n\n\nThis workshop is facilitated by Paola Ardiles and Kathleen Lane of Bridge for Health.
X-ALT-DESC;FMTTYPE=text/html:Do you work in a management role at your business/organization?<br />\nAre you looking for new strategies to create a healthy\, engaged and productive workforce?<br />\n<br />\nJoin us for an interactive workshop on how we can find new ways to improve wellbeing in theworkplace by using system thinking. Bridge for Health has developed a Healthy Business Practice Framework that highlights six business practice areas that promote wellbeing in business and are aligned with corporate social and environmental responsible practices. Using this framework\, participants will explore how their business policies\, practices and environments promote &ndash\; or hinder &ndash\; the health\, wellbeing and sustainability of their employees and the communities in which they operate. Participants will identify barriers and co-design strategies for creating a workplace environment that is good for health\, creativity and the bottom line.<br />\n<br />\n<strong>This workshop is facilitated by Paola Ardiles and Kathleen Lane of Bridge for Health.</strong>
LOCATION:Surrey Board of Trade (101 - 14439 104 Avenue)
UID:e.749.4871
SEQUENCE:3
DTSTAMP:20260424T095028Z
URL:https://business.swrbot.com/events/details/june-21-2016-creating-an-engaged-workforce-06-21-2016-4871
END:VEVENT

END:VCALENDAR
