BEGIN:VCALENDAR
VERSION:2.0
PRODID:-//ChamberMaster//Event Calendar 2.0//EN
METHOD:PUBLISH
X-PUBLISHED-TTL:P3D
REFRESH-INTERVAL:P3D
CALSCALE:GREGORIAN
BEGIN:VEVENT
DTSTART:20170622T003000Z
DTEND:20170622T033000Z
X-MICROSOFT-CDO-ALLDAYEVENT:FALSE
SUMMARY:June 21\, 2017 - Chair's Networking Dinner and 53rd Annual General Meeting
DESCRIPTION:As a member of the Surrey Board of Trade\, you are invited to attend the 53rd Annual General Meeting and Chair's Dinner on Wednesday\, June 21st at the Sheraton Vancouver Guildford Hotel (15269 104 Avenue\, Surrey) from 5:30 - 8:30 p.m.  The Surrey Board of Trade is your organization. It is your role\, as a member\, to participate in the Annual General Meeting process.\n\n\n\nThe event will feature a keynote presentation by Gopal Sahota\, President of the Fraser Valley Real Estate Board\, speaking on the State of the Real Estate Industry.
X-ALT-DESC;FMTTYPE=text/html:<span style="font-size:12px\;"><span style="font-family: arial\;">As a member of the Surrey Board of Trade\, you are invited to attend the 53<sup>rd</sup> Annual General Meeting and Chair&#39\;s Dinner on Wednesday\, June 21st at the Sheraton Vancouver Guildford Hotel (15269 104 Avenue\, Surrey) from 5:30 - 8:30 p.m.</span>&nbsp\; The Surrey Board of Trade is your organization. It is your role\, as a member\, to participate in the Annual General Meeting process.<br />\n<br />\n<span style="font-family: arial\;">The event will feature a keynote presentation by Gopal Sahota\, President of the Fraser Valley Real Estate Board\, speaking on the State of the Real Estate Industry.</span></span>
LOCATION:Sheraton Vancouver Guildford Hotel 15269 104 Avenue\, Surrey
UID:e.749.5197
SEQUENCE:3
DTSTAMP:20260422T001218Z
URL:https://business.swrbot.com/events/details/june-21-2017-chair-s-networking-dinner-and-53rd-annual-general-meeting-06-21-2017-5197
END:VEVENT

END:VCALENDAR
