BEGIN:VCALENDAR
VERSION:2.0
PRODID:-//ChamberMaster//Event Calendar 2.0//EN
METHOD:PUBLISH
X-PUBLISHED-TTL:P3D
REFRESH-INTERVAL:P3D
CALSCALE:GREGORIAN
BEGIN:VEVENT
DTSTART:20160622T180000Z
DTEND:20160622T200000Z
X-MICROSOFT-CDO-ALLDAYEVENT:FALSE
SUMMARY:June 22\, 2016 - Employer DIVERSEcity Luncheon
DESCRIPTION:This year's Employer DIVERSEcity Luncheon will be held at the DIVERSEcity Community Campus on Wednesday June 22nd\, 2016. The event will feature catering from its very own Community Kitchen & Community Garden program\, featuring Korean cuisine.
X-ALT-DESC;FMTTYPE=text/html:<span style="font-size:10pt\;font-family:&quot\;Univers LT Std 47 Cn Lt&quot\;">This year&rsquo\;s Employer DIVERSEcity Luncheon will be held at the DIVERSEcity Community Campus on <span class="aBn" data-term="goog_828068143" tabindex="0"><span class="aQJ">Wednesday June 22nd\, 2016</span></span>. The event will feature catering from its very own Community Kitchen &amp\; Community Garden program\, featuring Korean cuisine. </span>
LOCATION:DIVERSEcity Community Campus 13455 76 Ave. Surrey\, BC
UID:e.749.4953
SEQUENCE:3
DTSTAMP:20260424T095333Z
URL:https://business.swrbot.com/events/details/june-22-2016-employer-diversecity-luncheon-06-22-2016-4953
END:VEVENT

END:VCALENDAR
