BEGIN:VCALENDAR
VERSION:2.0
PRODID:-//ChamberMaster//Event Calendar 2.0//EN
METHOD:PUBLISH
X-PUBLISHED-TTL:P3D
REFRESH-INTERVAL:P3D
CALSCALE:GREGORIAN
BEGIN:VEVENT
DTSTART:20160624T000000Z
DTEND:20160624T020000Z
X-MICROSOFT-CDO-ALLDAYEVENT:FALSE
SUMMARY:June 23\, 2016 - Business to Business Networking Reception at Options BC
DESCRIPTION:Options Community Services (OCS) is a non-profit society and registered charity dedicated to making a difference. They are committed to empowering individuals\, supporting families and promoting community health. Everyday\, they aim to achieve these goals through a wide variety of programs and projects.\n\n \n\nOCS offers a variety of services to benefit employers within the community and looks forward to hosting an evening of:\n\n	Networking with local businesses and community members\n	Information about how to access free employment services including job posting services\, pre-screened applicants\, hiring fairs\, wage subsidy programs and job start supports\n	Learn about career mentoring opportunities for professionals to support new immigrants\n	Appetizers\, refreshments and door prizes!
X-ALT-DESC;FMTTYPE=text/html:Options Community Services (OCS) is a non-profit society and registered charity dedicated to making a difference. They are committed to empowering individuals\, supporting families and promoting community health. Everyday\, they aim to achieve these goals through a wide variety of programs and projects.<br />\n&nbsp\;<br />\nOCS offers a variety of services to benefit employers within the community and looks forward to hosting an evening of:\n<ul>\n	<li>Networking with local businesses and community members</li>\n	<li>Information about how to access free employment services including job posting services\, pre-screened applicants\, hiring fairs\, wage subsidy programs and job start supports</li>\n	<li>Learn about career mentoring opportunities for professionals to support new immigrants</li>\n	<li>Appetizers\, refreshments and door prizes!</li>\n</ul>\n
LOCATION:Options BC 6846 King George Boulevard #100\, Surrey\, BC V3W 4Z9
UID:e.749.4927
SEQUENCE:3
DTSTAMP:20260424T095614Z
URL:https://business.swrbot.com/events/details/june-23-2016-business-to-business-networking-reception-at-options-bc-06-23-2016-4927
END:VEVENT

END:VCALENDAR
