BEGIN:VCALENDAR
VERSION:2.0
PRODID:-//ChamberMaster//Event Calendar 2.0//EN
METHOD:PUBLISH
X-PUBLISHED-TTL:P3D
REFRESH-INTERVAL:P3D
CALSCALE:GREGORIAN
BEGIN:VEVENT
DTSTART:20140625T010000Z
DTEND:20140625T043000Z
X-MICROSOFT-CDO-ALLDAYEVENT:FALSE
SUMMARY:June 24\, 2014 - Ray Hudson\, Surrey Board of Trade Policy Manager Retires
DESCRIPTION:Ray Hudson\, Surrey Board of Trade Policy Manager Retires
X-ALT-DESC;FMTTYPE=text/html:<span style="font-size:9.0pt\;font-family:&quot\;Arial&quot\;\,&quot\;sans-serif&quot\;"><b><span style="font-family:&quot\;Arial&quot\;\,&quot\;sans-serif&quot\;">Ray Hudson\, Surrey Board of Trade Policy Manager Retires</span></b></span>
LOCATION:Sheraton Vancouver Guildford Hotel 15269 104th Ave Surrey\, BC
UID:e.749.2650
SEQUENCE:3
DTSTAMP:20260425T201747Z
URL:https://business.swrbot.com/events/details/june-24-2014-ray-hudson-surrey-board-of-trade-policy-manager-retires-06-24-2014-2650
END:VEVENT

END:VCALENDAR
