BEGIN:VCALENDAR
VERSION:2.0
PRODID:-//ChamberMaster//Event Calendar 2.0//EN
METHOD:PUBLISH
X-PUBLISHED-TTL:P3D
REFRESH-INTERVAL:P3D
CALSCALE:GREGORIAN
BEGIN:VEVENT
DTSTART:20140626T003000Z
DTEND:20140626T023000Z
X-MICROSOFT-CDO-ALLDAYEVENT:FALSE
SUMMARY:June 25\, 2014 - Business to Business at Storage for Your Life
DESCRIPTION:Business to Business Networking Reception\n\nHosted by Storage for Your Life!\n\n\n\nNeed a little extra room in your life?\n\n\n\nStorage for Your Life has been providing storage solutions and personalized service in the Newton community for the last fifteen years. Join Storage for Your Life and your fellow Surrey Board of Trade members at this networking event and enjoy some snacks\, refreshments\, games and prizes!\n\n\n\nLearn more about their business services including flexible billing\, 24 hour access\, records storage and delivery services. Information will be provided on SBOT Member incentives and community referral programs. See you there!\n\n\n\nWin Great Prizes!  Make new business contacts!
X-ALT-DESC;FMTTYPE=text/html:<strong>Business to Business Networking Reception</strong><br />\nHosted by Storage for Your Life!<br />\n<br />\n<strong>Need a little extra room in your life?</strong><br />\n<br />\nStorage for Your Life has been providing storage solutions and personalized service in the Newton community for the last fifteen years. Join Storage for Your Life and your fellow Surrey Board of Trade members at this networking event and enjoy some snacks\, refreshments\, games and prizes!<br />\n<br />\nLearn more about their business services including flexible billing\, 24 hour access\, records storage and delivery services. Information will be provided on SBOT Member incentives and community referral programs. See you there!<br />\n<br />\n<em><strong>Win Great Prizes!&nbsp\; Make new business contacts!</strong></em>
LOCATION:Storage for Your Life 13498 73 Avenue Surrey\, BC
UID:e.749.2605
SEQUENCE:3
DTSTAMP:20260425T213741Z
URL:https://business.swrbot.com/events/details/june-25-2014-business-to-business-at-storage-for-your-life-06-25-2014-2605
END:VEVENT

END:VCALENDAR
