BEGIN:VCALENDAR
VERSION:2.0
PRODID:-//ChamberMaster//Event Calendar 2.0//EN
METHOD:PUBLISH
X-PUBLISHED-TTL:P3D
REFRESH-INTERVAL:P3D
CALSCALE:GREGORIAN
BEGIN:VEVENT
DTSTART:20190625T143000Z
DTEND:20190625T163000Z
X-MICROSOFT-CDO-ALLDAYEVENT:FALSE
SUMMARY:June 25\, 2019 - Business Readiness Workshop for the Trans Mountain Expansion Project
DESCRIPTION:Business Readiness Workshop for the Trans Mountain Expansion Project  \n\n \nWe invite you to attend an interactive workshop to learn more about construction and potential business opportunities with the Trans Mountain Expansion Project in Surrey.\n\n \n\nTrans Mountain anticipates beginning construction in Surrey in 2019. \n\n \n\nTrans Mountain and its contractors will be available to discuss the Project's procurement process and timelines\, to help businesses understand and prepare for potential procurement and employment opportunities in order to maximize local economic benefits associated with the Project. \n\n \n\nThis event will help businesses prepare to bid for opportunities as the Project moves forward.\nA light breakfast will be served with a brief presentation from Trans Mountain\, breakout discussions and networking during the event. Registration is required.
X-ALT-DESC;FMTTYPE=text/html:<span style="font-size:12px\;"><span style="font-family:arial\;"><span style="font-size:16px\;"><strong><span style="color:#046330\;">Business Readiness Workshop for the Trans Mountain Expansion Project &nbsp\;</span></strong></span><br />\n&nbsp\;</span></span>\n<p class="m_6367549895748190565gmail-m_7949883797135673172x_MsoNormal" style="margin:0cm 0cm 0.0001pt"><span style="color:rgb(0\,0\,0)"><span style="font-family:arial\,sans-serif"><font size="2">We invite you to attend an interactive workshop to learn more about construction and potential business opportunities with the Trans Mountain Expansion Project in Surrey.</font></span></span></p>\n\n<p class="m_6367549895748190565gmail-m_7949883797135673172x_MsoNormal" style="margin:0cm 0cm 0.0001pt"><span style="color:rgb(0\,0\,0)"><span style="font-family:arial\,sans-serif"><font size="2"><span>&nbsp\;</span></font></span></span></p>\n\n<p class="m_6367549895748190565gmail-m_7949883797135673172x_MsoNormal" style="margin:0cm 0cm 0.0001pt"><span style="color:rgb(0\,0\,0)"><span style="font-family:arial\,sans-serif"><font size="2">Trans Mountain anticipates beginning construction in Surrey in 2019. </font></span></span></p>\n\n<p class="m_6367549895748190565gmail-m_7949883797135673172x_MsoNormal" style="margin:0cm 0cm 0.0001pt"><span style="color:rgb(0\,0\,0)"><span style="font-family:arial\,sans-serif"><font size="2"><span>&nbsp\;</span></font></span></span></p>\n\n<p class="m_6367549895748190565gmail-m_7949883797135673172x_MsoNormal" style="margin:0cm 0cm 0.0001pt"><span style="color:rgb(0\,0\,0)"><span style="font-family:arial\,sans-serif"><font size="2">Trans Mountain and its contractors will be available to discuss the Project&rsquo\;s procurement process and timelines\, to help businesses understand and prepare for potential procurement and employment opportunities in order to maximize local economic benefits associated with the Project. </font></span></span></p>\n\n<p class="m_6367549895748190565gmail-m_7949883797135673172x_MsoNormal" style="margin:0cm 0cm 0.0001pt"><span style="color:rgb(0\,0\,0)"><span style="font-family:arial\,sans-serif"><font size="2"><span><span>&nbsp\;</span></span></font></span></span></p>\n\n<p class="m_6367549895748190565gmail-m_7949883797135673172x_MsoNormal" style="margin:0cm 0cm 12pt"><span style="color:rgb(0\,0\,0)"><span style="font-family:arial\,sans-serif"><font size="2"><span>This event will help businesses prepare to bid for opportunities as the Project moves forward.</span></font></span></span></p>\n<span style="color:rgb(0\,0\,0)"><span style="font-family:arial\,sans-serif"><font size="2">A light breakfast will be served with a brief presentation from Trans Mountain\, breakout discussions and networking during the event. Registration is required. </font></span></span>
LOCATION:Eaglequest Golf Course (7778 152 St\, Surrey)
UID:e.749.10472
SEQUENCE:3
DTSTAMP:20260420T174348Z
URL:https://business.swrbot.com/events/details/june-25-2019-business-readiness-workshop-for-the-trans-mountain-expansion-project-06-25-2019-10472
END:VEVENT

END:VCALENDAR
