BEGIN:VCALENDAR
VERSION:2.0
PRODID:-//ChamberMaster//Event Calendar 2.0//EN
METHOD:PUBLISH
X-PUBLISHED-TTL:P3D
REFRESH-INTERVAL:P3D
CALSCALE:GREGORIAN
BEGIN:VEVENT
DTSTART:20140626T194500Z
DTEND:20140626T213000Z
X-MICROSOFT-CDO-ALLDAYEVENT:FALSE
SUMMARY:June 26\, 2014 - How to Compete for Contracts to Build & Service LNG and Pipeline
DESCRIPTION:How to Compete for Contracts to Build and Service LNG and Pipeline Projects\n\n \n\nYou are invited to attend a special workshop on some tools and tips on how to compete for the contracts needed to build and service LNG plants and pipelines. Find out what the vendor opportunities will be and how businesses can register through an online portal to profile their business for these emerging industries. If you are a small business or a large business\, different services and products are needed to support the emerging LNG and Pipeline industries. \n\n \n\nThe Session Moderator will be MLA Mike Bernier. \n\n \n\nAlso\, the following will be on hand to answer any of your questions:\n\nSurrey-Fleetwood MLA Peter Fassbender\, Surrey-Cloverdale MLA Stephanie Cadieux\, Surrey-Panorama MLA Marvin Hunt\, Surrey-White Rock MLA Gordon Hogg
X-ALT-DESC;FMTTYPE=text/html:<span style="font-family:arial\;"><span style="font-size:10pt\;">How to Compete for Contracts to Build and Service LNG and Pipeline Projects</span></span><br />\n&nbsp\;<br />\n<span style="font-family:arial\;"><span style="font-size:10pt\;">You are invited to attend a special workshop on some tools and tips on how to&nbsp\;compete for the contracts needed to build and service LNG plants and pipelines. Find out what the vendor opportunities will be and how businesses can register through an online portal to profile their business for these emerging industries.&nbsp\;If you are a small business or a large business\, different services and products are needed to support the emerging LNG and Pipeline industries.&nbsp\;</span></span><br />\n&nbsp\;<br />\n<span style="font-family:arial\;"><span style="font-size:10pt\;">The Session Moderator will be MLA Mike Bernier. </span></span><br />\n&nbsp\;<br />\n<span style="font-family:arial\;"><span style="font-size:10pt\;">Also\, the following will be on hand to answer any of your questions:<br />\nSurrey-Fleetwood MLA Peter Fassbender\, Surrey-Cloverdale MLA Stephanie Cadieux\, Surrey-Panorama MLA Marvin Hunt\, Surrey-White Rock MLA Gordon Hogg</span></span><br />\n&nbsp\;<br />\n<br />\n<br />\n&nbsp\;
LOCATION:Surrey Board of Trade Conference Room #101 - 14439 104th Ave Surrey\, BC
UID:e.749.2665
SEQUENCE:3
DTSTAMP:20260425T213156Z
URL:https://business.swrbot.com/events/details/june-26-2014-how-to-compete-for-contracts-to-build-service-lng-and-pipeline-06-26-2014-2665
END:VEVENT

END:VCALENDAR
