BEGIN:VCALENDAR
VERSION:2.0
PRODID:-//ChamberMaster//Event Calendar 2.0//EN
METHOD:PUBLISH
X-PUBLISHED-TTL:P3D
REFRESH-INTERVAL:P3D
CALSCALE:GREGORIAN
BEGIN:VEVENT
DTSTART:20180628T003000Z
DTEND:20180628T033000Z
X-MICROSOFT-CDO-ALLDAYEVENT:FALSE
SUMMARY:June 27\, 2018 - Chair's Networking Dinner and 54th Annual General Meeting at EAGLEQUEST GOLF COURSE
DESCRIPTION:As a member of the Surrey Board of Trade\, you are invited to attend the 54th Annual General Meeting and Chair's Dinner on Wednesday\, June 27th from 5:30 - 8:30 p.m. The Surrey Board of Trade is your organization. It is your role\, as a member\, to participate in the Annual General Meeting process.\n\n\n\nPlease register now.\n\n \n\n\nEvent payment is due upon registration. Cancellations for event attendance\, sponsorship\, or exhibitor space will not be refunded. An event registration is considered a commitment to pay. While event registration is non-refundable\, cancellations before three full business days of the event may be eligible for a credit towards a future event. Some exclusions apply.
X-ALT-DESC;FMTTYPE=text/html:<span style="font-family: arial\;">As a member of the Surrey Board of Trade\, you are invited to attend the 54<sup>th</sup> Annual General Meeting and Chair&#39\;s Dinner on Wednesday\, June 27th from 5:30 - 8:30 p.m. </span>The Surrey Board of Trade is your organization. It is your role\, as a member\, to participate in the Annual General Meeting process.<br />\n<br />\nPlease register now.<br />\n&nbsp\;\n<hr /><br />\n<em><span style="color: rgb(34\, 34\, 34)\; font-family: Arial\, Helvetica\, sans-serif\; font-size: small\;">Event payment is due upon registration. Cancellations for event attendance\, sponsorship\, or exhibitor space will not be refunded. An event registration is considered a commitment to pay. While event registration is non-refundable\, cancellations before three full business days of the event may be eligible for a credit towards a future event. Some exclusions apply.</span></em><br />\n<br />\n<br />\n&nbsp\;
LOCATION:Eaglequest Golf Course 7778 152 Street\, Surrey
UID:e.749.5485
SEQUENCE:3
DTSTAMP:20260421T091609Z
URL:https://business.swrbot.com/events/details/june-27-2018-chair-s-networking-dinner-and-54th-annual-general-meeting-at-eaglequest-golf-course-06-27-2018-5485
END:VEVENT

END:VCALENDAR
