BEGIN:VCALENDAR
VERSION:2.0
PRODID:-//ChamberMaster//Event Calendar 2.0//EN
METHOD:PUBLISH
X-PUBLISHED-TTL:P3D
REFRESH-INTERVAL:P3D
CALSCALE:GREGORIAN
BEGIN:VEVENT
DTSTART:20160629T153000Z
DTEND:20160629T190000Z
X-MICROSOFT-CDO-ALLDAYEVENT:FALSE
SUMMARY:June 29\, 2016 - Imagine BC's Future
DESCRIPTION:BC2035: Imagine BC's Future\n\nOn June 29\, join with the Business Council of British Columbia and the Surrey Board of Trade for a conversation and workshop on the future of BC's economy.  Your ideas will help shape a 20-year road map for the province's economy. What do you want BC to look like in 2035? What are the big ideas that will leverage our collective strengths\, adapt to global trends and result in the creation of a strong economy and society that will propel our province through the fourth industrial revolution?\n\n\n\nThe initiative\, BC2035\, will engage community and business leaders in a conversation that will explore how to build a strong\, sustainable BC economy\, supported by communities across the province that will contribute to our collective prosperity\, social services and high standard of living. By leveraging British Columbia's innovation\, environmentally sustainable practices\, education system\, diverse economy and population we can make a meaningful mark on the world while growing a healthy economy.\n\n\n\nAs a business and community leader in your region\, your input and ideas will help to formulate a robust plan for the future\, both locally and provincially. The Business Council and the Surrey Board of Trade invite you to participate in our BC2035 workshop.
X-ALT-DESC;FMTTYPE=text/html:<span style="font-size:12px\;"><em><b><span style="font-family: &quot\;Arial&quot\;\,sans-serif\;">BC2035: Imagine BC&#39\;s Future</span></b></em></span><br />\n<span style="font-size:9.0pt\;font-family:&quot\;Arial&quot\;\,sans-serif">On&nbsp\;<span><span class="aBn" data-term="goog_921864421" tabindex="0"><span class="aQJ">June 29\,</span></span></span> join with the Business Council of British Columbia and the&nbsp\;Surrey Board of Trade&nbsp\;for a conversation and workshop on the future of BC&#39\;s economy.&nbsp\; Your ideas will help shape a&nbsp\;20-year road map for the province&rsquo\;s economy. What do you want BC to look like in 2035? What are the big ideas that will leverage our collective strengths\, adapt to global trends and result in the creation of a strong economy and society that will propel our province through the fourth industrial revolution?<br />\n<br />\nThe initiative\, BC2035\, will engage community and business leaders in a conversation that will explore how to build a strong\, sustainable BC economy\, supported by communities across the province that will contribute to our collective prosperity\, social services and high standard of living. By leveraging British Columbia&#39\;s innovation\, environmentally sustainable practices\, education system\, diverse economy and population we can make a meaningful mark on the world while growing a healthy economy.<br />\n<br />\nAs a business and community leader in your region\, your input and ideas will help to formulate a robust plan for the future\, both locally and provincially. The Business Council and the Surrey Board of Trade invite you to participate in our BC2035 workshop.</span>
LOCATION:Sheraton Vancouver Guildford Hotel (15269 - 104 Avenue Surrey\, BC V3R 1N5)
UID:e.749.4947
SEQUENCE:3
DTSTAMP:20260424T095144Z
URL:https://business.swrbot.com/events/details/june-29-2016-imagine-bc-s-future-06-29-2016-4947
END:VEVENT

END:VCALENDAR
