BEGIN:VCALENDAR
VERSION:2.0
PRODID:-//ChamberMaster//Event Calendar 2.0//EN
METHOD:PUBLISH
X-PUBLISHED-TTL:P3D
REFRESH-INTERVAL:P3D
CALSCALE:GREGORIAN
BEGIN:VEVENT
DTSTART:20140603T144500Z
DTEND:20140603T170000Z
X-MICROSOFT-CDO-ALLDAYEVENT:FALSE
SUMMARY:June 3\, 2014 - Running Effective Meetings
DESCRIPTION:Running Effective Meetings\n\n\n\nMeetings are a part of every day business. At this dynamic workshop\, find out how to ensure meetings are run effectively to meet objectives. You will leave this workshop with the following take aways:\n\n\n\nBefore the Meeting\n\nWell prepared meetings are focused\, purposeful and effective. Learn how to prepare the meeting in advance with agendas\, S.M.A.R.T. goals and some basic ground rules.\n\n\n\nDuring the Meeting\n\nIn order to achieve the objectives of the meeting it's important to stick to the agenda and set up action items. Learn tips on setting up action items and assigning responsibility during the meeting. Hear how to summarize and capture the key points of the meeting through meeting minutes. Learn the basics of Robert's Rules of Order to govern your meetings.\n\n\n\nAfter the Meeting\n\nIt's crucial to follow-up after the meeting to confirm and clarify action items. Often the follow up is overlooked and the information from the meeting is lost amongst competing priorities. We will review how to make the follow-up effective by including deadlines and stakeholders.
X-ALT-DESC;FMTTYPE=text/html:<strong>Running Effective Meetings</strong><br />\n<br />\nMeetings are a part of every day business. At this dynamic workshop\, find out how to ensure meetings are run effectively to meet objectives. You will leave this workshop with the following take aways:<br />\n<br />\n<strong>Before the Meeting</strong><br />\nWell prepared meetings are focused\, purposeful and effective. Learn how to prepare the meeting in advance with agendas\, S.M.A.R.T. goals and some basic ground rules.<br />\n<br />\n<strong>During the Meeting</strong><br />\nIn order to achieve the objectives of the meeting it&rsquo\;s important to stick to the agenda and set up action items. Learn tips on setting up action items and assigning responsibility during the meeting. Hear how to summarize and capture the key points of the meeting through meeting minutes. Learn the basics of Robert&rsquo\;s Rules of Order to govern your meetings.<br />\n<br />\n<strong>After the Meeting</strong><br />\nIt&rsquo\;s crucial to follow-up after the meeting to confirm and clarify action items. Often the follow up is overlooked and the information from the meeting is lost amongst competing priorities. We will review how to make the follow-up effective by including deadlines and stakeholders.
LOCATION:Surrey Board of Trade Conference Room 101 - 14439 104th Ave Surrey\, BC
UID:e.749.2631
SEQUENCE:3
DTSTAMP:20260425T201256Z
URL:https://business.swrbot.com/events/details/june-3-2014-running-effective-meetings-06-03-2014-2631
END:VEVENT

END:VCALENDAR
