BEGIN:VCALENDAR
VERSION:2.0
PRODID:-//ChamberMaster//Event Calendar 2.0//EN
METHOD:PUBLISH
X-PUBLISHED-TTL:P3D
REFRESH-INTERVAL:P3D
CALSCALE:GREGORIAN
BEGIN:VEVENT
DTSTART:20150604T180000Z
DTEND:20150605T043000Z
X-MICROSOFT-CDO-ALLDAYEVENT:FALSE
SUMMARY:June 4\, 2015 - Golf Tournament
DESCRIPTION:Thank you for your interest in the SBOT Golf Tournament!  The tournament is now sold out\, but we encourage you to call 604-581-7130 to be added to the waiting list. \n\n\n\nAnnual Fun in the Sun Networking Golf Tournament!\n\nActivities at every hole\, Live Auction\, Prizes\,\n\nLunch\, Snacks and Beverages\, Prime Rib Dinner\,\n\nSilent Auction\, Entertainment\, Opportunity Draw\,\n\nRegistration gift.\n\n\n\n\n\n*Unfortunately we are not able to offer refunds in the event of a cancelation.
X-ALT-DESC;FMTTYPE=text/html:<p><strong><span style="color:#FF0000\;">Thank you for your interest in the SBOT Golf Tournament!&nbsp\; The tournament is now <u>sold out</u>\, but we encourage you to call 604-581-7130 to be added to the waiting list. </span><br />\n<br />\nAnnual Fun in the Sun Networking Golf Tournament!</strong><br />\nActivities at every hole\, Live Auction\, Prizes\,<br />\nLunch\, Snacks and Beverages\, Prime Rib Dinner\,<br />\nSilent Auction\, Entertainment\, Opportunity Draw\,<br />\nRegistration gift.<br />\n<br />\n<br />\n*Unfortunately we are not able to offer refunds in the event of a cancelation.<br />\n&nbsp\;</p>\n
LOCATION:Morgan Creek Golf Course 3500 Morgan Creek Way
UID:e.749.2838
SEQUENCE:3
DTSTAMP:20260423T145732Z
URL:https://business.swrbot.com/events/details/june-4-2015-golf-tournament-06-04-2015-2838
END:VEVENT

END:VCALENDAR
