BEGIN:VCALENDAR
VERSION:2.0
PRODID:-//ChamberMaster//Event Calendar 2.0//EN
METHOD:PUBLISH
X-PUBLISHED-TTL:P3D
REFRESH-INTERVAL:P3D
CALSCALE:GREGORIAN
BEGIN:VEVENT
DTSTART:20140605T180000Z
DTEND:20140606T043000Z
X-MICROSOFT-CDO-ALLDAYEVENT:FALSE
SUMMARY:June 5\, 2014 - Golf Tournament
DESCRIPTION:*Thank you for your interest! Please note\, this event is now SOLD OUT\, although DINNER ONLY spots are still available. Please contact Jo-Ann at 604-581-7130 to be added to our player wait-list.\n\n\n\nAnnual Fun in the Sun Networking Golf Tournament!\n\nActivities at every hole\, Live Auction\, Prizes\,\n\nLunch\, Snacks and Beverages\, Prime Rib Dinner\,\n\nSilent Auction\, Entertainment\, Opportunity Draw\,\n\nRegistration gift.\n\n\n\n\n\n\n\n\n\n\n\n\n\n\n\n\n\n\n\n\n\n\n\n\n\n\n\n*Unfortunately we are not able to offer refunds in the event of a cancelation.
X-ALT-DESC;FMTTYPE=text/html:<p><span style="color:#FF0000\;"><strong>*Thank you for your interest! Please note\, this event is now SOLD OUT\, although DINNER ONLY spots are still available. Please contact Jo-Ann at 604-581-7130 to be added to our player wait-list.</strong></span><br />\n<br />\nAnnual Fun in the Sun Networking Golf Tournament!<br />\nActivities at every hole\, Live Auction\, Prizes\,<br />\nLunch\, Snacks and Beverages\, Prime Rib Dinner\,<br />\nSilent Auction\, Entertainment\, Opportunity Draw\,<br />\nRegistration gift.<br />\n<br />\n<br />\n<br />\n<br />\n<br />\n<br />\n<br />\n<br />\n<br />\n<br />\n<br />\n<br />\n<br />\n*Unfortunately we are not able to offer refunds in the event of a cancelation.<br />\n&nbsp\;</p>\n
LOCATION:Morgan Creek Golf Course 3500 Morgan Creek Way
UID:e.749.2568
SEQUENCE:3
DTSTAMP:20260425T202134Z
URL:https://business.swrbot.com/events/details/june-5-2014-golf-tournament-06-05-2014-2568
END:VEVENT

END:VCALENDAR
