BEGIN:VCALENDAR
VERSION:2.0
PRODID:-//ChamberMaster//Event Calendar 2.0//EN
METHOD:PUBLISH
X-PUBLISHED-TTL:P3D
REFRESH-INTERVAL:P3D
CALSCALE:GREGORIAN
BEGIN:VEVENT
DTSTART:20180605T150000Z
DTEND:20180605T170000Z
X-MICROSOFT-CDO-ALLDAYEVENT:FALSE
SUMMARY:June 5\, 2018 - SBOT Workshop – Emotional Intelligence: The Key to Behavioral Intelligence
DESCRIPTION:Your career success is directly related to your behavioral intelligence. People with average IQs outperform those with the highest IQs 70% of the time. They develop their Emotional Intelligence (EQ) to become more Behaviorally Intelligent. \n\n \n\nJoin us in this interactive Vivo Talk where you will:\n\n	Discover why Behavioral Intelligence is more important than IQ.\n	Learn how to be aware of\, control\, and manage yours - and others   behavior at work for more fun and engagement.\n	Learn a model for increasing team and personal Behavioral Intelligence so our "lizard brains" are not in control.\n	Learn how to use MRI's - Mutually Respectful Interpretations to connect more effectively with MRR's - Mutually Respectful Responses.\n\n\nThis workshop is facilitated by Dr. Jim Sellner\, Vice President of Learnings and Applications for Vivo Team Development. Dr. Sellner is the author of more than 1\,600 articles and 3 amazing books including "Leadership for Einstein's: Bringing Out the Genius in People While Becoming Great Ourselves".
X-ALT-DESC;FMTTYPE=text/html:<span style="color:black\;"><span style="font-family:arial\,sans-serif\;"><span style="font-size:9.5pt\;">Your career success is directly related to your behavioral intelligence.</span></span></span> <span style="color:black\;"><span style="font-family:arial\,sans-serif\;"><span style="font-size:9.5pt\;">People with average IQs outperform those with the highest IQs 70% of the time. They develop their Emotional Intelligence (EQ) to become more Behaviorally Intelligent. </span></span></span><br />\n&nbsp\;<br />\n<span style="color:black\;"><span style="font-family:arial\,sans-serif\;"><span style="font-size:9.5pt\;">Join us in this interactive Vivo Talk where you will:</span></span></span>\n<ul>\n	<li style="font-size:12pt\;font-family:Calibri\,sans-serif\;"><span style="color:black\;"><span style="font-family:arial\,sans-serif\;"><span style="font-size:9.5pt\;">Discover why Behavioral Intelligence is more important than IQ.</span></span></span></li>\n	<li style="font-size:12pt\;font-family:Calibri\,sans-serif\;"><span style="color:black\;"><span style="font-family:arial\,sans-serif\;"><span style="font-size:9.5pt\;">Learn how to be aware of\, control\, and manage yours - and others &ndash\; behavior at work for more fun and engagement.</span></span></span></li>\n	<li style="font-size:12pt\;font-family:Calibri\,sans-serif\;"><span style="color:black\;"><span style="font-family:arial\,sans-serif\;"><span style="font-size:9.5pt\;"><span style="color:black\;"><span style="font-family:arial\,sans-serif\;"><span style="font-size:9.5pt\;">Learn a model for increasing team and personal Behavioral Intelligence so our &ldquo\;lizard brains&rdquo\; are not in control.</span></span></span></span></span></span></li>\n	<li style="font-size:12pt\;font-family:Calibri\,sans-serif\;"><span style="color:black\;"><span style="font-family:arial\,sans-serif\;"><span style="font-size:9.5pt\;">Learn how to use MRI&rsquo\;s - Mutually Respectful Interpretations to connect more effectively with MRR&rsquo\;s - Mutually Respectful Responses.</span></span></span></li>\n</ul>\n\n<div style="font-size:12pt\;font-family:Calibri\,sans-serif\;"><span style="font-size:9.5pt\;font-family:Arial\,sans-serif\;color:black">This workshop is facilitated by Dr. Jim Sellner\, Vice President of Learnings and Applications for <a data-saferedirecturl="https://www.google.com/url?hl=en&amp\;q=https://vivoteam.com/&amp\;source=gmail&amp\;ust=1527101324573000&amp\;usg=AFQjCNFgvsAIIYA6cPc0YiG3eiy-_AbPKg" href="https://vivoteam.com/" style="color:blue\;text-decoration:underline" target="_blank">Vivo Team Development</a>. Dr. Sellner is the author of more than 1\,600 articles and 3 amazing books including &ldquo\;Leadership for Einstein&rsquo\;s: Bringing Out the Genius in People While Becoming Great Ourselves&rdquo\;.</span></div>\n
LOCATION:Surrey Board of Trade (101-14439\, 104th Ave\, Surrey\, BC V3R 1M1)
UID:e.749.9325
SEQUENCE:3
DTSTAMP:20260421T091438Z
URL:https://business.swrbot.com/events/details/june-5-2018-sbot-workshop-emotional-intelligence-the-key-to-behavioral-intelligence-06-05-2018-9325
END:VEVENT

END:VCALENDAR
