BEGIN:VCALENDAR
VERSION:2.0
PRODID:-//ChamberMaster//Event Calendar 2.0//EN
METHOD:PUBLISH
X-PUBLISHED-TTL:P3D
REFRESH-INTERVAL:P3D
CALSCALE:GREGORIAN
BEGIN:VEVENT
DTSTART:20190606T180000Z
DTEND:20190607T035000Z
X-MICROSOFT-CDO-ALLDAYEVENT:FALSE
SUMMARY:June 6\, 2019 - SBOT Golf Tournament - SOLD OUT
DESCRIPTION:PLAYER SPOTS SOLD OUT - to be added to the wait list use the Register button above\, or to register for dinner only - call 604.581.7130.\n\n\n\nJoin the Surrey Board of Trade on Thursday\, June 6 from 11:00 a.m. - 9:00 p.m. at the Morgan Creek Golf Course.  \n\n\n\nWhat is the event?\n\nDifferent from other golf tournaments\, the purpose of the event is to create synergy and form business relationships on the golf course. Through the creation of teams of different companies - 4 business people per team - they are able to spend the day on the golf course and network with one another.\n\n\n\nJoin us for a fun-filled day of:\n\n\n	Activities at every hole\n	Live Auction\n	Prizes\n	Lunch\n	Snacks and Beverages\n	Dinner\n	Wine Pull\n	Silent Auction\n	Entertainment\n	Opportunity Draw\n	Registration gift\n\n\nThe Surrey Board of Trade Golf Tournament proceeds will support their Youth Entrepreneurship Program\, helping students in Grades 4-12 create a product\, sell it\, create business-marketing-financial plans   and giving back to their community. The following students that have participated in the program will be at the dinner portion of the event\, to sell their product and to share their experience of being a part of the program:\n\nRebecca Zaparolli\n\nGrade 5\n\nBusiness Name: Becca Products\n\nBusiness Description: Small glass terrariums with a succulent \n\n \nRhea Saran\n\nGrade 5\n\nBusiness Name: Paw Treats\n\nBusiness Description: Homemade Dog treats\n\n\n\n\nFor information on sponsorship\, please contact Heather Booth at heather@businessinsurrey.com or call 604.634.0341.\n\n\nPlease click HERE for more information on the Hole Sponsors and Activities that will be taking place during the day.\n\n\n\nEvent payment is due upon registration. Cancellations for the golf tournament are not permitted. An event registration is considered a commitment to pay.
X-ALT-DESC;FMTTYPE=text/html:<p><span style="font-size:14px\;"><span style="font-family: arial\;"><span style="color:#008080\;"><strong>PLAYER SPOTS SOLD OUT </strong>- to be added to the wait list use the Register button above\, or to register for dinner only - call 604.581.7130.</span><br />\n<br />\nJoin the Surrey Board of Trade on Thursday\, June 6 from 11:00 a.m. - 9:00 p.m. at the Morgan Creek Golf Course.&nbsp\;&nbsp\;<br />\n<br />\n<strong>What is the event?</strong><br />\nDifferent from other golf tournaments\, the purpose of the event is to create synergy and form business relationships on the golf course. Through the creation of teams of different companies - 4 business people per team - they are able to spend the day on the golf course and network with one another.</span><br />\n<br />\n<strong>Join us for a fun-filled day of:</strong></span></p>\n\n<ul>\n	<li><span style="font-size:14px\;">Activities at every hole</span></li>\n	<li><span style="font-size:14px\;">Live Auction</span></li>\n	<li><span style="font-size:14px\;">Prizes</span></li>\n	<li><span style="font-size:14px\;">Lunch</span></li>\n	<li><span style="font-size:14px\;">Snacks and Beverages</span></li>\n	<li><span style="font-size:14px\;">Dinner</span></li>\n	<li><span style="font-size:14px\;">Wine Pull</span></li>\n	<li><span style="font-size:14px\;">Silent Auction</span></li>\n	<li><span style="font-size:14px\;">Entertainment</span></li>\n	<li><span style="font-size:14px\;">Opportunity Draw</span></li>\n	<li><span style="font-size:14px\;">Registration gift</span></li>\n</ul>\n\n<h4><span style="font-size:14px\;"><span style="background:white\;"><span style="color:#222222\;"><span style="font-family:calibri\,sans-serif\;"><span style="font-family:arial\;">The Surrey Board of Trade Golf Tournament proceeds will support their Youth Entrepreneurship Program\, helping students in Grades 4-12 create a product\, sell it\, create business-marketing-financial plans &ndash\; and giving back to their community. The following students that have participated&nbsp\;in the program will be at the dinner portion of the event\, to sell their product and to share their experience of being a part of the program:</span></span></span></span></span></h4>\n\n<div style="font-family: Calibri\, Arial\, Helvetica\, sans-serif\; font-size: 12pt\; color: rgb(0\, 0\, 0)\;"><strong><span style="font-size:14px\;"><span style="font-family:arial\;">Rebecca Zaparolli</span></span></strong></div>\n\n<div style="font-family: Calibri\, Arial\, Helvetica\, sans-serif\; font-size: 12pt\; color: rgb(0\, 0\, 0)\;"><span style="font-size:14px\;"><span style="font-family:arial\;">Grade 5</span></span></div>\n\n<div style="font-family: Calibri\, Arial\, Helvetica\, sans-serif\; font-size: 12pt\; color: rgb(0\, 0\, 0)\;"><span style="font-size:14px\;"><span style="font-family:arial\;">Business Name: Becca Products</span></span></div>\n\n<div style="font-family: Calibri\, Arial\, Helvetica\, sans-serif\; font-size: 12pt\; color: rgb(0\, 0\, 0)\;"><span style="font-size:14px\;"><span style="font-family:arial\;">Business Description: Small glass terrariums with a succulent&nbsp\;</span></span><br />\n&nbsp\;\n<div style="font-family: Calibri\, Arial\, Helvetica\, sans-serif\; font-size: 12pt\; color: rgb(0\, 0\, 0)\;"><strong><span style="font-size:14px\;">Rhea Saran</span></strong></div>\n\n<div style="font-family: Calibri\, Arial\, Helvetica\, sans-serif\; font-size: 12pt\; color: rgb(0\, 0\, 0)\;"><span style="font-size:14px\;">Grade 5</span></div>\n\n<div style="font-family: Calibri\, Arial\, Helvetica\, sans-serif\; font-size: 12pt\; color: rgb(0\, 0\, 0)\;"><span style="font-size:14px\;">Business Name: Paw Treats</span></div>\n\n<div style="font-family: Calibri\, Arial\, Helvetica\, sans-serif\; font-size: 12pt\; color: rgb(0\, 0\, 0)\;"><span style="font-size:14px\;">Business Description: Homemade Dog treats</span></div>\n</div>\n\n<p style="font-family: Calibri\, Arial\, Helvetica\, sans-serif\; font-size: 12pt\; color: rgb(0\, 0\, 0)\;"><br />\n<strong style="color: rgb(51\, 51\, 51)\; font-family: sans-serif\, Arial\, Verdana\, &quot\;Trebuchet MS&quot\;\; font-size: 13px\;">For information on sponsorship\, please contact Heather Booth at <a href="mailto:heather@businessinsurrey.com">heather@businessinsurrey.com</a> or call 604.634.0341.</strong></p>\n<br />\nPlease click <a href="https://chambermaster.blob.core.windows.net/userfiles/UserFiles/chambers/749/File/2019HoleSponsorsandActivites.pdf">HERE</a> for more information on the Hole Sponsors and Activities that will be taking place during the day.\n\n<hr /><br />\n<em 1.6="" background-attachment:="" background-clip:="" background-image:="" background-origin:="" background-position:="" background-repeat:="" background-size:="" border-collapse:="" border-radius:="" border:="" box-shadow:="" height:="" helvetica="" left:="" line-height:="" margin:="" max-height:="" max-width:="" min-height:="" min-width:="" opacity:="" outline-offset:="" overflow:="" padding:="" position:="" resize:="" right:="" style="box-sizing: content-box\; bottom: auto\; clear: none\; color: rgb(10\, 10\, 10)\; content: normal\; direction: inherit\; display: inline\; empty-cells: show\; font-variant-numeric: inherit\; font-variant-east-asian: inherit\; font-stretch: inherit\; font-size: 16px\;" table-layout:="" text-overflow:="" top:="" vertical-align:="" visibility:="" width:="" word-break:="" word-wrap:="" z-index:=""><span style="box-sizing: content-box\; bottom: auto\; clear: none\; color: rgb(34\, 34\, 34)\; content: normal\; direction: inherit\; empty-cells: show\; font-style: inherit\; font-variant: inherit\; font-weight: inherit\; font-stretch: inherit\; font-size: small\; font-family: Arial\, Helvetica\, sans-serif\; left: auto\; margin: 0px\; max-height: none\; max-width: none\; min-height: initial\; min-width: initial\; opacity: 1\; outline-offset: 0px\; overflow: visible\; padding: 0px\; position: static\; resize: none\; right: auto\; table-layout: auto\; text-indent: inherit\; text-overflow: clip\; text-transform: inherit\; top: auto\; vertical-align: baseline\; visibility: inherit\; white-space: inherit\; word-break: inherit\; word-spacing: inherit\; overflow-wrap: inherit\; z-index: auto\; background: none\; border: none\; border-collapse: separate\; border-radius: 0px\; height: auto\; width: auto\; box-shadow: none\; letter-spacing: 0px !important\; line-height: 1.6 !important\;">Event payment is due upon registration. Cancellations for the golf tournament are not permitted. An event registration is considered a commitment to pay. </span></em><br />\n<span style="font-size:12px\;">&nbsp\;</span><br />\n&nbsp\;
LOCATION:Morgan Creek Golf Course (3500 Morgan Creek Way\, Surrey BC)
UID:e.749.9377
SEQUENCE:3
DTSTAMP:20260420T174248Z
URL:https://business.swrbot.com/events/details/june-6-2019-sbot-golf-tournament-sold-out-06-06-2019-9377
END:VEVENT

END:VCALENDAR
