BEGIN:VCALENDAR
VERSION:2.0
PRODID:-//ChamberMaster//Event Calendar 2.0//EN
METHOD:PUBLISH
X-PUBLISHED-TTL:P3D
REFRESH-INTERVAL:P3D
CALSCALE:GREGORIAN
BEGIN:VEVENT
DTSTART:20120607T143000Z
DTEND:20120607T163000Z
X-MICROSOFT-CDO-ALLDAYEVENT:FALSE
SUMMARY:June 7\, 2012 - Breakfast in the City
DESCRIPTION:Have breakfast and network with your fellow Board of Trade members at this popular morning event.\n\n	\n\n	You can help welcome our new members and establish new contacts too\, while you learn more about some of the advantages of belonging to the Surrey Board of Trade.
X-ALT-DESC;FMTTYPE=text/html:<div>\n	Have breakfast and network with your fellow Board of Trade members at this popular morning event.<br />\n	<br />\n	You can help welcome our new members and establish new contacts too\, while you learn more about some of the advantages of belonging to the Surrey Board of Trade.</div>\n
LOCATION:Sheraton Vancouver Guildford Hotel 15269 104 Avenue\, Surrey
UID:e.749.1954
SEQUENCE:3
DTSTAMP:20260421T061740Z
URL:https://business.swrbot.com/events/details/june-7-2012-breakfast-in-the-city-06-07-2012-1954
END:VEVENT

END:VCALENDAR
