BEGIN:VCALENDAR
VERSION:2.0
PRODID:-//ChamberMaster//Event Calendar 2.0//EN
METHOD:PUBLISH
X-PUBLISHED-TTL:P3D
REFRESH-INTERVAL:P3D
CALSCALE:GREGORIAN
BEGIN:VEVENT
DTSTART:20180607T180000Z
DTEND:20180608T035000Z
X-MICROSOFT-CDO-ALLDAYEVENT:FALSE
SUMMARY:June 7\, 2018 - Golf Tournament - SOLD OUT!
DESCRIPTION:GOLFERS: \n\n\n\nClick HERE  for a list of all HOLE SPONSORS & ACTIVITIES. \n\n\n\nClick HERE for a list of all GOLF TEAMS.\n\n\n\nJoin the Surrey Board of Trade on Thursday\, June 7 from 11:00 a.m. - 9:00 p.m. at the Morgan Creek Golf Course.  \n\n\n\nWhat is the event?\n\nDifferent from other golf tournaments\, the purpose of the event is to create synergy and form business relationships on the golf course. Through the creation of teams of different companies ? 4 business people per team ? they are able to spend the day on the golf course and network with one another.\n\n\n\nJoin us for a fun-filled day of:\n\n\n	Activities at every hole\n	Live Auction\n	Prizes\n	Lunch\n	Snacks and Beverages\n	Dinner\n	Wine Pull\n	Silent Auction\n	Entertainment\n	Opportunity Draw\n	Registration gift\n\nPlease click Here for a list of all Hole Sponsor Activities.
X-ALT-DESC;FMTTYPE=text/html:<p><span style="font-size:14px\;"><span style="font-family: arial\;"><u>GOLFERS:&nbsp\;</u><br />\n<br />\n<strong>Click </strong></span></span><strong><a href="https://chambermaster.blob.core.windows.net/userfiles/UserFiles/chambers/749/File/2018HoleSponsorsandActivites1.pdf" style="font-size: 14px\;">HERE</a><span style="font-size: 14px\;"> &#8203\;</span></strong><span style="font-size:14px\;"><strong>for a list of all HOLE SPONSORS &amp\; ACTIVITIES.&nbsp\;</strong><br />\n<br />\n<span style="font-family:arial\;"><strong>Click <a href="https://chambermaster.blob.core.windows.net/userfiles/UserFiles/chambers/749/File/SBOTGolfTournamentJune2018-PlayersList.pdf" target="_blank">HERE</a> for a list of all GOLF TEAMS.</strong></span><br />\n<br />\n<span style="font-family: arial\;">Join the Surrey Board of Trade on Thursday\, June 7 from 11:00 a.m. - 9:00 p.m. at the Morgan Creek Golf Course.&nbsp\;&nbsp\;<br />\n<br />\n<strong>What is the event?</strong><br />\nDifferent from other golf tournaments\, the purpose of the event is to create synergy and form business relationships on the golf course. Through the creation of teams of different companies ? 4 business people per team ? they are able to spend the day on the golf course and network with one another.</span><br />\n<br />\n<strong>Join us for a fun-filled day of:</strong></span></p>\n\n<ul>\n	<li><span style="font-size:14px\;">Activities at every hole</span></li>\n	<li><span style="font-size:14px\;">Live Auction</span></li>\n	<li><span style="font-size:14px\;">Prizes</span></li>\n	<li><span style="font-size:14px\;">Lunch</span></li>\n	<li><span style="font-size:14px\;">Snacks and Beverages</span></li>\n	<li><span style="font-size:14px\;">Dinner</span></li>\n	<li><span style="font-size:14px\;">Wine Pull</span></li>\n	<li><span style="font-size:14px\;">Silent Auction</span></li>\n	<li><span style="font-size:14px\;">Entertainment</span></li>\n	<li><span style="font-size:14px\;">Opportunity Draw</span></li>\n	<li><span style="font-size:14px\;">Registration gift</span></li>\n</ul>\n<span style="font-size:14px\;">Please click <a href="https://chambermaster.blob.core.windows.net/userfiles/UserFiles/chambers/749/File/2018HoleSponsorsandActivites1.pdf">Here</a> for a list of all Hole Sponsor Activities.&nbsp\;<br />\n&nbsp\;</span><br />\n&nbsp\;
LOCATION:Morgan Creek Golf Course (3500 Morgan Creek Way\, Surrey BC)
UID:e.749.5477
SEQUENCE:3
DTSTAMP:20260421T091644Z
URL:https://business.swrbot.com/events/details/june-7-2018-golf-tournament-sold-out-06-07-2018-5477
END:VEVENT

END:VCALENDAR
