BEGIN:VCALENDAR
VERSION:2.0
PRODID:-//ChamberMaster//Event Calendar 2.0//EN
METHOD:PUBLISH
X-PUBLISHED-TTL:P3D
REFRESH-INTERVAL:P3D
CALSCALE:GREGORIAN
BEGIN:VEVENT
DTSTART:20160608T144500Z
DTEND:20160608T163000Z
X-MICROSOFT-CDO-ALLDAYEVENT:FALSE
SUMMARY:June 8\, 2016 - Guildford Business Safety Breakfast
DESCRIPTION:Featuring guest speakers:\n\n\n	Chief Superintendent Bill Fordy and Surrey South Zone Commander Martin Blais\, Surrey RCMP \n	City of Surrey Representative \n	Metro Vancouver Crime Stoppers \n\nPlease come prepared with questions or issues that your business would like to address.
X-ALT-DESC;FMTTYPE=text/html:<div class="page" title="Page 1">\n<div class="section">\n<div class="layoutArea">\n<div class="column">\n<p><span style="font-size:12px\;"><span style="font-family: arial\;"><span style="font-weight: 700\;">Featuring guest speakers:</span></span></span></p>\n\n<ul style="list-style-type: disc">\n	<li><span style="font-size:12px\;"><span style="font-family: arial\;"><span style="font-weight: 700\;">Chief Superintendent Bill Fordy and Surrey South Zone Commander Martin Blais\, Surrey RCMP </span></span></span></li>\n	<li><span style="font-size:12px\;"><span style="font-family: arial\;"><span style="font-weight: 700\;">City of Surrey Representative </span></span></span></li>\n	<li><span style="font-size:12px\;"><span style="font-family: arial\;"><span style="font-weight: 700\;">Metro Vancouver Crime Stoppers </span></span></span></li>\n</ul>\n<span style="font-size:12px\;"><span style="font-family: arial\;">Please come prepared with questions or issues that your business would like to address. </span></span></div>\n</div>\n</div>\n</div>\n
LOCATION:Famoso Neopolitan Pizzeria - Guildford 1001- 10355 152 Street\, Surrey (Guildford Town Centre)
UID:e.749.3754
SEQUENCE:3
DTSTAMP:20260424T095502Z
URL:https://business.swrbot.com/events/details/june-8-2016-guildford-business-safety-breakfast-06-08-2016-3754
END:VEVENT

END:VCALENDAR
